BEGIN:VCALENDAR
PRODID:Landtag Brandenburg
VERSION:2.0
X-WR-CALNAME:Landtag Brandenburg Termine
BEGIN:VTIMEZONE
TZID:Europe/Berlin
X-LIC-LOCATION:Europe/Berlin
BEGIN:DAYLIGHT
TZOFFSETFROM:+0100
TZOFFSETTO:+0200
TZNAME:CEST
DTSTART:19700329T020000
RRULE:FREQ=YEARLY;INTERVAL=1;BYDAY=-1SU;BYMONTH=3
END:DAYLIGHT
BEGIN:STANDARD
TZOFFSETFROM:+0200
TZOFFSETTO:+0100
TZNAME:CET
DTSTART:19701025T030000
RRULE:FREQ=YEARLY;INTERVAL=1;BYDAY=-1SU;BYMONTH=10
END:STANDARD
END:VTIMEZONE
BEGIN:VEVENT
DTSTART;TZID=Europe/Berlin:20260528T100000
DTEND;TZID=Europe/Berlin:20260528T235900
DESCRIPTION:
SUMMARY:Sitzung des Ausschusses für Haushaltskontrolle
CATEGORIES:Liveübertragung, Ausschüsse / Gremien
LOCATION:Landtag Brandenburg,2.050 a/b
UID:3CC59781-1953-8C68-D538-ECD0AD16CCD6
END:VEVENT
BEGIN:VEVENT
DTSTART;TZID=Europe/Berlin:20260929T140000
DTEND;TZID=Europe/Berlin:20260929T235900
DESCRIPTION:
SUMMARY:Sitzung des Ausschusses für Haushaltskontrolle
CATEGORIES:Liveübertragung, Ausschüsse / Gremien
LOCATION:Landtag Brandenburg,2.050 a/b
UID:BAFA3188-80F0-610E-341C-3DBD9A53CF00
END:VEVENT
BEGIN:VEVENT
DTSTART;TZID=Europe/Berlin:20261201T140000
DTEND;TZID=Europe/Berlin:20261201T235900
DESCRIPTION:
SUMMARY:Sitzung des Ausschusses für Haushaltskontrolle
CATEGORIES:Liveübertragung, Ausschüsse / Gremien
LOCATION:Landtag Brandenburg,2.050 a/b
UID:6606BFE2-AED8-BD02-2CE6-FCC58DD1572A
END:VEVENT
END:VCALENDAR
