BEGIN:VCALENDAR
PRODID:Landtag Brandenburg
VERSION:2.0
X-WR-CALNAME:Landtag Brandenburg Termine
BEGIN:VTIMEZONE
TZID:Europe/Berlin
X-LIC-LOCATION:Europe/Berlin
BEGIN:DAYLIGHT
TZOFFSETFROM:+0100
TZOFFSETTO:+0200
TZNAME:CEST
DTSTART:19700329T020000
RRULE:FREQ=YEARLY;INTERVAL=1;BYDAY=-1SU;BYMONTH=3
END:DAYLIGHT
BEGIN:STANDARD
TZOFFSETFROM:+0200
TZOFFSETTO:+0100
TZNAME:CET
DTSTART:19701025T030000
RRULE:FREQ=YEARLY;INTERVAL=1;BYDAY=-1SU;BYMONTH=10
END:STANDARD
END:VTIMEZONE
BEGIN:VEVENT
DTSTART;TZID=Europe/Berlin:20260604T100000
DTEND;TZID=Europe/Berlin:20260604T235900
DESCRIPTION:
SUMMARY:Sitzung des Ausschusses für Haushalt und Finanzen
CATEGORIES:Liveübertragung, Ausschüsse / Gremien
LOCATION:Landtag Brandenburg,1.050
UID:16EAA497-8366-68E3-DA02-DAF041E383CD
END:VEVENT
BEGIN:VEVENT
DTSTART;TZID=Europe/Berlin:20260903T100000
DTEND;TZID=Europe/Berlin:20260903T235900
DESCRIPTION:
SUMMARY:Sitzung des Ausschusses für Haushalt und Finanzen
CATEGORIES:Liveübertragung, Ausschüsse / Gremien
LOCATION:Landtag Brandenburg,1.050
UID:CDFABAAD-2652-653D-9BA8-8B41D64E62B0
END:VEVENT
BEGIN:VEVENT
DTSTART;TZID=Europe/Berlin:20261001T100000
DTEND;TZID=Europe/Berlin:20261001T235900
DESCRIPTION:
SUMMARY:Sitzung des Ausschusses für Haushalt und Finanzen
CATEGORIES:Liveübertragung, Ausschüsse / Gremien
LOCATION:Landtag Brandenburg,1.050
UID:9825A30E-AA80-ADD5-DA4A-036EC94F2309
END:VEVENT
BEGIN:VEVENT
DTSTART;TZID=Europe/Berlin:20261112T100000
DTEND;TZID=Europe/Berlin:20261112T235900
DESCRIPTION:
SUMMARY:Sitzung des Ausschusses für Haushalt und Finanzen
CATEGORIES:Liveübertragung, Ausschüsse / Gremien
LOCATION:Landtag Brandenburg,1.050
UID:D72BD689-2D15-0EB2-9717-0566C50CB86F
END:VEVENT
BEGIN:VEVENT
DTSTART;TZID=Europe/Berlin:20261203T100000
DTEND;TZID=Europe/Berlin:20261203T235900
DESCRIPTION:
SUMMARY:Sitzung des Ausschusses für Haushalt und Finanzen
CATEGORIES:Liveübertragung, Ausschüsse / Gremien
LOCATION:Landtag Brandenburg,1.050
UID:8A9B3D72-2AF9-DA13-BF0C-F775B2A6D693
END:VEVENT
END:VCALENDAR
