BEGIN:VCALENDAR
PRODID:Landtag Brandenburg
VERSION:2.0
X-WR-CALNAME:Landtag Brandenburg Termine
BEGIN:VTIMEZONE
TZID:Europe/Berlin
X-LIC-LOCATION:Europe/Berlin
BEGIN:DAYLIGHT
TZOFFSETFROM:+0100
TZOFFSETTO:+0200
TZNAME:CEST
DTSTART:19700329T020000
RRULE:FREQ=YEARLY;INTERVAL=1;BYDAY=-1SU;BYMONTH=3
END:DAYLIGHT
BEGIN:STANDARD
TZOFFSETFROM:+0200
TZOFFSETTO:+0100
TZNAME:CET
DTSTART:19701025T030000
RRULE:FREQ=YEARLY;INTERVAL=1;BYDAY=-1SU;BYMONTH=10
END:STANDARD
END:VTIMEZONE
BEGIN:VEVENT
DTSTART;TZID=Europe/Berlin:20260522T100000
DTEND;TZID=Europe/Berlin:20260522T235900
DESCRIPTION:
SUMMARY:Sitzung der Enquete-Kommission 8/1
CATEGORIES:Liveübertragung, Ausschüsse / Gremien
LOCATION:Landtag Brandenburg,1.050
UID:A449A1EC-02CF-F915-7645-066E0DFD7A7E
END:VEVENT
BEGIN:VEVENT
DTSTART;TZID=Europe/Berlin:20260626T100000
DTEND;TZID=Europe/Berlin:20260626T235900
DESCRIPTION:
SUMMARY:Sitzung der Enquete-Kommission 8/1
CATEGORIES:Liveübertragung, Ausschüsse / Gremien
LOCATION:Landtag Brandenburg,1.050
UID:82FCD265-21D1-F3CC-1619-6F477497FB72
END:VEVENT
BEGIN:VEVENT
DTSTART;TZID=Europe/Berlin:20260707T133000
DTEND;TZID=Europe/Berlin:20260707T143000
DESCRIPTION:
SUMMARY:Pressekonferenz der Enquete-Kommission 8/1 zur Zwischenbilanz 
CATEGORIES:Liveübertragung, Pressekonferenz, Ausschüsse / Gremien
LOCATION:Landtag Brandenburg,E.060
UID:9B625C44-E3B9-E8E8-28EE-9E53D93CFE8A
END:VEVENT
BEGIN:VEVENT
DTSTART;TZID=Europe/Berlin:20260904T100000
DTEND;TZID=Europe/Berlin:20260904T235900
DESCRIPTION:
SUMMARY:Sitzung der Enquete-Kommission 8/1
CATEGORIES:Liveübertragung, Ausschüsse / Gremien
LOCATION:Landtag Brandenburg,1.050
UID:AB7BADA5-976E-C123-8243-755539AA9155
END:VEVENT
BEGIN:VEVENT
DTSTART;TZID=Europe/Berlin:20261002T100000
DTEND;TZID=Europe/Berlin:20261002T235900
DESCRIPTION:
SUMMARY:Sitzung der Enquete-Kommission 8/1
CATEGORIES:Liveübertragung, Ausschüsse / Gremien
LOCATION:Landtag Brandenburg,1.050
UID:5A035AAB-666F-C8FF-45FB-339A25AE204B
END:VEVENT
BEGIN:VEVENT
DTSTART;TZID=Europe/Berlin:20261113T100000
DTEND;TZID=Europe/Berlin:20261113T235900
DESCRIPTION:
SUMMARY:Sitzung der Enquete-Kommission 8/1
CATEGORIES:Liveübertragung, Ausschüsse / Gremien
LOCATION:Landtag Brandenburg,1.050
UID:FD72AB31-8338-CF58-2BD4-2EC510DE0E41
END:VEVENT
BEGIN:VEVENT
DTSTART;TZID=Europe/Berlin:20261204T100000
DTEND;TZID=Europe/Berlin:20261204T235900
DESCRIPTION:
SUMMARY:Sitzung der Enquete-Kommission 8/1
CATEGORIES:Liveübertragung, Ausschüsse / Gremien
LOCATION:Landtag Brandenburg,1.050
UID:847344D5-45EC-7846-99E9-8687817561C6
END:VEVENT
END:VCALENDAR
