BEGIN:VCALENDAR
PRODID:Landtag Brandenburg
VERSION:2.0
X-WR-CALNAME:Landtag Brandenburg Termine
BEGIN:VTIMEZONE
TZID:Europe/Berlin
X-LIC-LOCATION:Europe/Berlin
BEGIN:DAYLIGHT
TZOFFSETFROM:+0100
TZOFFSETTO:+0200
TZNAME:CEST
DTSTART:19700329T020000
RRULE:FREQ=YEARLY;INTERVAL=1;BYDAY=-1SU;BYMONTH=3
END:DAYLIGHT
BEGIN:STANDARD
TZOFFSETFROM:+0200
TZOFFSETTO:+0100
TZNAME:CET
DTSTART:19701025T030000
RRULE:FREQ=YEARLY;INTERVAL=1;BYDAY=-1SU;BYMONTH=10
END:STANDARD
END:VTIMEZONE
BEGIN:VEVENT
DTSTART;TZID=Europe/Berlin:20260417T100000
DTEND;TZID=Europe/Berlin:20260417T160000
DESCRIPTION:
SUMMARY:7. (öffentliche) Sitzung der Enquete-Kommission 8/2
CATEGORIES:Liveübertragung, Ausschüsse / Gremien
LOCATION:Landtag Brandenburg,2.050 a/b (Hybridsitzung)
UID:12DFF34B-8FD2-A312-231F-AAC343D904F5
END:VEVENT
BEGIN:VEVENT
DTSTART;TZID=Europe/Berlin:20260911T100000
DTEND;TZID=Europe/Berlin:20260911T235900
DESCRIPTION:
SUMMARY:Sitzung der Enquete-Kommission 8/2
CATEGORIES:Liveübertragung, Ausschüsse / Gremien
LOCATION:Landtag Brandenburg,2.050 a/b
UID:370E82E3-4D5C-7861-A8C3-6440C91BB414
END:VEVENT
BEGIN:VEVENT
DTSTART;TZID=Europe/Berlin:20261009T100000
DTEND;TZID=Europe/Berlin:20261009T235900
DESCRIPTION:
SUMMARY:Sitzung der Enquete-Kommission 8/2
CATEGORIES:Liveübertragung, Ausschüsse / Gremien
LOCATION:Landtag Brandenburg,2.050 a/b
UID:1521C21D-9E2E-9A83-87D5-CCAAA7C5010F
END:VEVENT
BEGIN:VEVENT
DTSTART;TZID=Europe/Berlin:20261120T100000
DTEND;TZID=Europe/Berlin:20261120T235900
DESCRIPTION:
SUMMARY:Sitzung der Enquete-Kommission 8/2
CATEGORIES:Liveübertragung, Ausschüsse / Gremien
LOCATION:Landtag Brandenburg,2.050 a/b
UID:4E0DC1C1-3CC4-CB56-0EC7-8B13769C5D16
END:VEVENT
BEGIN:VEVENT
DTSTART;TZID=Europe/Berlin:20261211T100000
DTEND;TZID=Europe/Berlin:20261211T235900
DESCRIPTION:
SUMMARY:Sitzung der Enquete-Kommission 8/2
CATEGORIES:Liveübertragung, Ausschüsse / Gremien
LOCATION:Landtag Brandenburg,2.050 a/b
UID:B08858C8-0E02-858B-EE20-BD13F6723F16
END:VEVENT
END:VCALENDAR
