BEGIN:VCALENDAR
PRODID:Landtag Brandenburg
VERSION:2.0
X-WR-CALNAME:Landtag Brandenburg Termine
BEGIN:VTIMEZONE
TZID:Europe/Berlin
X-LIC-LOCATION:Europe/Berlin
BEGIN:DAYLIGHT
TZOFFSETFROM:+0100
TZOFFSETTO:+0200
TZNAME:CEST
DTSTART:19700329T020000
RRULE:FREQ=YEARLY;INTERVAL=1;BYDAY=-1SU;BYMONTH=3
END:DAYLIGHT
BEGIN:STANDARD
TZOFFSETFROM:+0200
TZOFFSETTO:+0100
TZNAME:CET
DTSTART:19701025T030000
RRULE:FREQ=YEARLY;INTERVAL=1;BYDAY=-1SU;BYMONTH=10
END:STANDARD
END:VTIMEZONE
BEGIN:VEVENT
DTSTART;TZID=Europe/Berlin:20231001T100000
DTEND;TZID=Europe/Berlin:20231001T235900
DESCRIPTION:
SUMMARY:Landtagspräsidentin Prof. Dr. Liedtke folgt einer Einladung von Bischof Dr. Stäblein zum Erntedankgottesdienst und spricht ein Grußwort.
CATEGORIES:Termin der Präsidentin
LOCATION:St.-Jacobi-Kirche, 19348 Perleberg
UID:11540041-D20C-EE1B-4CDC-A1587EE2C06A
END:VEVENT
END:VCALENDAR
