BEGIN:VCALENDAR
PRODID:Landtag Brandenburg
VERSION:2.0
X-WR-CALNAME:Landtag Brandenburg Termine
BEGIN:VTIMEZONE
TZID:Europe/Berlin
X-LIC-LOCATION:Europe/Berlin
BEGIN:DAYLIGHT
TZOFFSETFROM:+0100
TZOFFSETTO:+0200
TZNAME:CEST
DTSTART:19700329T020000
RRULE:FREQ=YEARLY;INTERVAL=1;BYDAY=-1SU;BYMONTH=3
END:DAYLIGHT
BEGIN:STANDARD
TZOFFSETFROM:+0200
TZOFFSETTO:+0100
TZNAME:CET
DTSTART:19701025T030000
RRULE:FREQ=YEARLY;INTERVAL=1;BYDAY=-1SU;BYMONTH=10
END:STANDARD
END:VTIMEZONE
BEGIN:VEVENT
DTSTART;TZID=Europe/Berlin:20220603T130000
DTEND;TZID=Europe/Berlin:20220603T235900
DESCRIPTION:
SUMMARY:Vor-Ort-Termin des Ausschusses für Landwirtschaft, Umwelt und Klimaschutz bei Tesla in Grünheide (nicht öffentlich)
CATEGORIES:Ausschüsse / Gremien
LOCATION:Tesla-Werksgelände Grünheide
UID:B436BE0A-E165-6C49-C697-85860529868C
END:VEVENT
END:VCALENDAR
