BEGIN:VCALENDAR
PRODID:Landtag Brandenburg
VERSION:2.0
X-WR-CALNAME:Landtag Brandenburg Termine
BEGIN:VTIMEZONE
TZID:Europe/Berlin
X-LIC-LOCATION:Europe/Berlin
BEGIN:DAYLIGHT
TZOFFSETFROM:+0100
TZOFFSETTO:+0200
TZNAME:CEST
DTSTART:19700329T020000
RRULE:FREQ=YEARLY;INTERVAL=1;BYDAY=-1SU;BYMONTH=3
END:DAYLIGHT
BEGIN:STANDARD
TZOFFSETFROM:+0200
TZOFFSETTO:+0100
TZNAME:CET
DTSTART:19701025T030000
RRULE:FREQ=YEARLY;INTERVAL=1;BYDAY=-1SU;BYMONTH=10
END:STANDARD
END:VTIMEZONE
BEGIN:VEVENT
DTSTART;TZID=Europe/Berlin:20231004
DTEND;TZID=Europe/Berlin:20231005
DESCRIPTION:
SUMMARY:Landtagspräsidentin Prof. Dr. Liedtke reist mit einer Delegation des Landtages zu Gesprächen mit dem Parlament der Deutschsprachigen Gemeinschaft Belgiens nach Eupen (Ostbelgien) sowie zum Flämischen Parlament in Brüssel.
CATEGORIES:Termin der Präsidentin
LOCATION:Eupen (Ostbelgien) sowie Flämisches Parlament in Brüssel
UID:05597E19-6441-1511-07A9-778729F15AED
END:VEVENT
BEGIN:VEVENT
DTSTART;TZID=Europe/Berlin:20231004T100000
DTEND;TZID=Europe/Berlin:20231004T180000
DESCRIPTION:
SUMMARY:51. (öffentliche) Sitzung des Ausschusses für Inneres und Kommunales
CATEGORIES:Liveübertragung, Ausschüsse / Gremien, Anhörung / Fachgespräch
LOCATION:Landtag Brandenburg,2.050
UID:BA221CBF-C687-4B86-4D43-8021EC54145A
END:VEVENT
BEGIN:VEVENT
DTSTART;TZID=Europe/Berlin:20231004T100000
DTEND;TZID=Europe/Berlin:20231004T180000
DESCRIPTION:
SUMMARY:89. (öffentliche) Sitzung des Ausschusses für Soziales, Gesundheit, Integration und Verbraucherschutz
CATEGORIES:Liveübertragung, Ausschüsse / Gremien, Anhörung / Fachgespräch
LOCATION:Landtag Brandenburg,1.050
UID:1FD0EC55-B5A3-17AD-153D-9110AFC34C5B
END:VEVENT
BEGIN:VEVENT
DTSTART;TZID=Europe/Berlin:20231004T110000
DTEND;TZID=Europe/Berlin:20231004T200000
DESCRIPTION:
SUMMARY:52. (öffentliche) Sitzung des Ausschusses für Landwirtschaft, Umwelt und Klimaschutz
CATEGORIES:Liveübertragung, Ausschüsse / Gremien, Anhörung / Fachgespräch
LOCATION:Landtag Brandenburg,1.070
UID:12B3664D-D66F-BA5B-8C18-FEEA699A56DB
END:VEVENT
END:VCALENDAR
