BEGIN:VCALENDAR
PRODID:Landtag Brandenburg
VERSION:2.0
X-WR-CALNAME:Landtag Brandenburg Termine
BEGIN:VTIMEZONE
TZID:Europe/Berlin
X-LIC-LOCATION:Europe/Berlin
BEGIN:DAYLIGHT
TZOFFSETFROM:+0100
TZOFFSETTO:+0200
TZNAME:CEST
DTSTART:19700329T020000
RRULE:FREQ=YEARLY;INTERVAL=1;BYDAY=-1SU;BYMONTH=3
END:DAYLIGHT
BEGIN:STANDARD
TZOFFSETFROM:+0200
TZOFFSETTO:+0100
TZNAME:CET
DTSTART:19701025T030000
RRULE:FREQ=YEARLY;INTERVAL=1;BYDAY=-1SU;BYMONTH=10
END:STANDARD
END:VTIMEZONE
BEGIN:VEVENT
DTSTART;TZID=Europe/Berlin:20220405T103000
DTEND;TZID=Europe/Berlin:20220405T235900
DESCRIPTION:
SUMMARY:Landtagspräsidentin Prof. Dr. Liedtke nimmt an der Vorstellung der Studie„Frauen Macht Bran-denburg“ mit anschließender Diskussion auf Ein-ladung der Friedrich-Ebert-Stiftung teil.
CATEGORIES:Termin der Präsidentin
LOCATION:Filmmuseum Potsdam, Breite Str. 1A, 14467 Potsdam
UID:59D9CF47-07E1-A754-77E9-57436BBED361
END:VEVENT
BEGIN:VEVENT
DTSTART;TZID=Europe/Berlin:20220405T110000
DTEND;TZID=Europe/Berlin:20220405T112000
DESCRIPTION:
SUMMARY:Pressekonferenz der Fraktion DIE LINKE mit der stellvertretenden Fraktionsvorsitzenden Andrea Johlige und der bildungspolitischen Sprecherin Kathrin Dannenberg
CATEGORIES:Termin der Fraktionen, Pressekonferenz
LOCATION:Landtag Brandenburg,E.060 (Pressekonferenzraum)
UID:F0744813-2140-CEA3-EF5B-CE83F2DE08C5
END:VEVENT
BEGIN:VEVENT
DTSTART;TZID=Europe/Berlin:20220405T110000
DTEND;TZID=Europe/Berlin:20220405T133000
DESCRIPTION:
SUMMARY:Pressekonferenzen der Landtagsfraktionen
CATEGORIES:Pressekonferenz, Sonstige Veranstaltungen, Liveübertragung, Termin der Fraktionen
LOCATION:Landtag Brandenburg,E.060 (Pressekonferenzraum)
UID:4D28EA63-E1DD-F953-F5B7-57A7A83F7173
END:VEVENT
BEGIN:VEVENT
DTSTART;TZID=Europe/Berlin:20220405T114000
DTEND;TZID=Europe/Berlin:20220405T120000
DESCRIPTION:
SUMMARY:Pressekonferenz der CDU-Fraktion
CATEGORIES:Pressekonferenz, Termin der Fraktionen
LOCATION:Landtag Brandenburg,E.060 (Pressekonferenzraum)
UID:12704316-2583-E4B6-7CAD-571F7A7CF0F5
END:VEVENT
BEGIN:VEVENT
DTSTART;TZID=Europe/Berlin:20220405T122000
DTEND;TZID=Europe/Berlin:20220405T124000
DESCRIPTION:
SUMMARY:Pressekonferenz der SPD-Landtagsfraktion mit dem Vorsitzenden Daniel Keller
CATEGORIES:Termin der Fraktionen, Pressekonferenz
LOCATION:Landtag Brandenburg,E.060 a/b (Pressekonferenzraum)
UID:522F72BE-D9B7-69B8-1D69-689F4D3A5BC8
END:VEVENT
BEGIN:VEVENT
DTSTART;TZID=Europe/Berlin:20220405T124000
DTEND;TZID=Europe/Berlin:20220405T130000
DESCRIPTION:
SUMMARY:Pressekonferenz der Fraktion BÜNDNIS 90/DIE GRÜNEN mit den Fraktionsvorsitzenden Petra Budke und Benjamin Raschke
CATEGORIES:Termin der Fraktionen, Pressekonferenz
LOCATION:Landtag Brandenburg,E.060 a/b (Pressekonferenzraum)
UID:85E7DA23-C7EE-8CAE-EEB5-FF2BEE245B77
END:VEVENT
BEGIN:VEVENT
DTSTART;TZID=Europe/Berlin:20220405T130000
DTEND;TZID=Europe/Berlin:20220405T132000
DESCRIPTION:
SUMMARY:Pressekonferenz der AfD-Fraktion
CATEGORIES:Termin der Fraktionen, Pressekonferenz
LOCATION:Landtag Brandenburg,E.060 a/b (Pressekonferenzraum)
UID:963CD310-89F8-EA6B-7041-8C41A8324744
END:VEVENT
BEGIN:VEVENT
DTSTART;TZID=Europe/Berlin:20220405T180000
DTEND;TZID=Europe/Berlin:20220405T200000
DESCRIPTION:
SUMMARY:Ausstellungseröffnung „Camilla Plastic Ocean Plan“ 
CATEGORIES:Liveübertragung, Ausstellungseröffnung, Sonstige Veranstaltungen
LOCATION:Landtag Brandenburg,Foyer
UID:60421B76-1365-3D85-370B-ECA6E2B24A03
END:VEVENT
BEGIN:VEVENT
DTSTART;TZID=Europe/Berlin:20220405T180000
DTEND;TZID=Europe/Berlin:20220405T200000
DESCRIPTION:
SUMMARY:Landtagspräsidentin Prof. Dr. Liedtke eröffnet die neue Foyerausstellung „Camilla Plastic Ocean Plan: Wie ein transmediales Projekt entsteht“ mit einem Grußwort.
CATEGORIES:Termin der Präsidentin
LOCATION:Landtag Brandenburg,E.060 (Pressekonferenzraum)
UID:89F1B77B-8E06-7A0F-45EB-A8CF8A47D0B1
END:VEVENT
END:VCALENDAR
