BEGIN:VCALENDAR
PRODID:Landtag Brandenburg
VERSION:2.0
X-WR-CALNAME:Landtag Brandenburg Termine
BEGIN:VTIMEZONE
TZID:Europe/Berlin
X-LIC-LOCATION:Europe/Berlin
BEGIN:DAYLIGHT
TZOFFSETFROM:+0100
TZOFFSETTO:+0200
TZNAME:CEST
DTSTART:19700329T020000
RRULE:FREQ=YEARLY;INTERVAL=1;BYDAY=-1SU;BYMONTH=3
END:DAYLIGHT
BEGIN:STANDARD
TZOFFSETFROM:+0200
TZOFFSETTO:+0100
TZNAME:CET
DTSTART:19701025T030000
RRULE:FREQ=YEARLY;INTERVAL=1;BYDAY=-1SU;BYMONTH=10
END:STANDARD
END:VTIMEZONE
BEGIN:VEVENT
DTSTART;TZID=Europe/Berlin:20231005
DTEND;TZID=Europe/Berlin:20231006
DESCRIPTION:
SUMMARY:Landtagspräsidentin Prof. Dr. Liedtke reist mit einer Delegation des Landtages zu Gesprächen mit dem Parlament der Deutschsprachigen Gemeinschaft Belgiens nach Eupen (Ostbelgien) sowie zum Flämischen Parlament in Brüssel.
CATEGORIES:Termin der Präsidentin
LOCATION:Eupen (Ostbelgien) sowie Flämisches Parlament in Brüssel
UID:B758F325-EC70-D9DD-561A-215308FC4A63
END:VEVENT
BEGIN:VEVENT
DTSTART;TZID=Europe/Berlin:20231005T080000
DTEND;TZID=Europe/Berlin:20231005T091500
DESCRIPTION:
SUMMARY:29. (nicht öffentliche) Sitzung des Rates für Angelegenheiten der Sorben/Wenden
CATEGORIES:Ausschüsse / Gremien
LOCATION:Landtag Brandenburg,3.050
UID:FDE8F92A-EEDC-A37B-B84C-E6BD19779A47
END:VEVENT
BEGIN:VEVENT
DTSTART;TZID=Europe/Berlin:20231005T100000
DTEND;TZID=Europe/Berlin:20231005T140000
DESCRIPTION:
SUMMARY:66. (teilweise öffentliche) Sitzung des Auschusses für Haushalt und Finanzen
CATEGORIES:Liveübertragung, Ausschüsse / Gremien
LOCATION:Landtag Brandenburg,1.050
UID:D9710D33-81F2-B39B-F937-C4EF3BEA9582
END:VEVENT
BEGIN:VEVENT
DTSTART;TZID=Europe/Berlin:20231005T100000
DTEND;TZID=Europe/Berlin:20231005T140000
DESCRIPTION:
SUMMARY:40. (öffentliche) Sitzung des Rechtsausschusses
CATEGORIES:Liveübertragung, Ausschüsse / Gremien
LOCATION:Landtag Brandenburg,1.070
UID:8D4E618E-B5AF-AA72-5708-31154662F0A1
END:VEVENT
BEGIN:VEVENT
DTSTART;TZID=Europe/Berlin:20231005T120000
DTEND;TZID=Europe/Berlin:20231005T193000
DESCRIPTION:
SUMMARY:50. (öffentliche) Sitzung des Ausschusses für Bildung, Jugend und Sport
CATEGORIES:Liveübertragung, Ausschüsse / Gremien, Anhörung / Fachgespräch
LOCATION:Landtag Brandenburg,2.050 (Hybridsitzung)
UID:085B125D-30A1-897F-3B24-0FA023374FCB
END:VEVENT
END:VCALENDAR
