BEGIN:VCALENDAR
PRODID:Landtag Brandenburg
VERSION:2.0
X-WR-CALNAME:Landtag Brandenburg Termine
BEGIN:VTIMEZONE
TZID:Europe/Berlin
X-LIC-LOCATION:Europe/Berlin
BEGIN:DAYLIGHT
TZOFFSETFROM:+0100
TZOFFSETTO:+0200
TZNAME:CEST
DTSTART:19700329T020000
RRULE:FREQ=YEARLY;INTERVAL=1;BYDAY=-1SU;BYMONTH=3
END:DAYLIGHT
BEGIN:STANDARD
TZOFFSETFROM:+0200
TZOFFSETTO:+0100
TZNAME:CET
DTSTART:19701025T030000
RRULE:FREQ=YEARLY;INTERVAL=1;BYDAY=-1SU;BYMONTH=10
END:STANDARD
END:VTIMEZONE
BEGIN:VEVENT
DTSTART;TZID=Europe/Berlin:20220406T100000
DTEND;TZID=Europe/Berlin:20220406T160000
DESCRIPTION:
SUMMARY:16. (öffentliche) Sitzung des Sonderausschuss Strukturentwicklung in der Lausitz
CATEGORIES:Liveübertragung, Ausschüsse / Gremien, Anhörung / Fachgespräch
LOCATION:Gladhouse, Straße der Jugend 16, 03046 Cottbus
UID:661D931C-63A2-1A08-ECE4-03E3CE5631AE
END:VEVENT
BEGIN:VEVENT
DTSTART;TZID=Europe/Berlin:20220406T130000
DTEND;TZID=Europe/Berlin:20220406T160000
DESCRIPTION:
SUMMARY:36. (öffentliche) Sitzung (Sondersitzung) des Ausschusses für Inneres und Kommunales
CATEGORIES:Liveübertragung, Ausschüsse / Gremien, Anhörung / Fachgespräch
LOCATION:Landtag Brandenburg,Plenarsaal
UID:0533D99D-EBA7-217E-C37A-C75BA44C521D
END:VEVENT
END:VCALENDAR
