BEGIN:VCALENDAR
PRODID:Landtag Brandenburg
VERSION:2.0
X-WR-CALNAME:Landtag Brandenburg Termine
BEGIN:VTIMEZONE
TZID:Europe/Berlin
X-LIC-LOCATION:Europe/Berlin
BEGIN:DAYLIGHT
TZOFFSETFROM:+0100
TZOFFSETTO:+0200
TZNAME:CEST
DTSTART:19700329T020000
RRULE:FREQ=YEARLY;INTERVAL=1;BYDAY=-1SU;BYMONTH=3
END:DAYLIGHT
BEGIN:STANDARD
TZOFFSETFROM:+0200
TZOFFSETTO:+0100
TZNAME:CET
DTSTART:19701025T030000
RRULE:FREQ=YEARLY;INTERVAL=1;BYDAY=-1SU;BYMONTH=10
END:STANDARD
END:VTIMEZONE
BEGIN:VEVENT
DTSTART;TZID=Europe/Berlin:20231006
DTEND;TZID=Europe/Berlin:20231007
DESCRIPTION:
SUMMARY:Landtagspräsidentin Prof. Dr. Liedtke reist mit einer Delegation des Landtages zu Gesprächen mit dem Parlament der Deutschsprachigen Gemeinschaft Belgiens nach Eupen (Ostbelgien) sowie zum Flämischen Parlament in Brüssel.
CATEGORIES:Termin der Präsidentin
LOCATION:Eupen (Ostbelgien) sowie Flämisches Parlament in Brüssel
UID:4B77FBA1-B789-59BF-930B-CDE39ADF2A64
END:VEVENT
BEGIN:VEVENT
DTSTART;TZID=Europe/Berlin:20231006T100000
DTEND;TZID=Europe/Berlin:20231006T160000
DESCRIPTION:
SUMMARY:28. (öffentliche) Sitzung des Sonderausschuss Strukturentwicklung in der Lausitz
CATEGORIES:Liveübertragung, Ausschüsse / Gremien
LOCATION:Landtag Brandenburg,2.050
UID:6E170590-29F7-9AA3-0680-C5336EC66ABA
END:VEVENT
BEGIN:VEVENT
DTSTART;TZID=Europe/Berlin:20231006T100000
DTEND;TZID=Europe/Berlin:20231006T170000
DESCRIPTION:
SUMMARY:13. (teilweise) öffentliche Sitzung des Untersuchungsausschusses 7/2
CATEGORIES:Ausschüsse / Gremien
LOCATION:Landtag Brandenburg,1.050
UID:55CA083D-A7F1-E79C-BFFE-0112087B7AE3
END:VEVENT
BEGIN:VEVENT
DTSTART;TZID=Europe/Berlin:20231006T100000
DTEND;TZID=Europe/Berlin:20231006T235900
DESCRIPTION:
SUMMARY:9. (teilweise öffentliche) Sitzung des Untersuchungsausschusses 7/4
CATEGORIES:Ausschüsse / Gremien
LOCATION:Landtag Brandenburg,1.070
UID:08C0DDCA-0750-3B44-EA28-B8E471CCFB81
END:VEVENT
END:VCALENDAR
