BEGIN:VCALENDAR
PRODID:Landtag Brandenburg
VERSION:2.0
X-WR-CALNAME:Landtag Brandenburg Termine
BEGIN:VTIMEZONE
TZID:Europe/Berlin
X-LIC-LOCATION:Europe/Berlin
BEGIN:DAYLIGHT
TZOFFSETFROM:+0100
TZOFFSETTO:+0200
TZNAME:CEST
DTSTART:19700329T020000
RRULE:FREQ=YEARLY;INTERVAL=1;BYDAY=-1SU;BYMONTH=3
END:DAYLIGHT
BEGIN:STANDARD
TZOFFSETFROM:+0200
TZOFFSETTO:+0100
TZNAME:CET
DTSTART:19701025T030000
RRULE:FREQ=YEARLY;INTERVAL=1;BYDAY=-1SU;BYMONTH=10
END:STANDARD
END:VTIMEZONE
BEGIN:VEVENT
DTSTART;TZID=Europe/Berlin:20220608T100000
DTEND;TZID=Europe/Berlin:20220608T180000
DESCRIPTION:
SUMMARY:69. (öffentliche) Sitzung des Ausschusses für Soziales, Gesundheit, Integration und Verbraucherschutz
CATEGORIES:Liveübertragung, Ausschüsse / Gremien
LOCATION:Landtag Brandenburg,1.050
UID:1331FC2B-5FF9-256C-3665-7D2B06978686
END:VEVENT
BEGIN:VEVENT
DTSTART;TZID=Europe/Berlin:20220608T100000
DTEND;TZID=Europe/Berlin:20220608T180000
DESCRIPTION:
SUMMARY:38. (öffentliche) Sitzung des Ausschusses für Inneres und Kommunales
CATEGORIES:Liveübertragung, Ausschüsse / Gremien
LOCATION:Landtag Brandenburg,2.050
UID:AA00F778-EAFE-E167-76BC-ECA1F31421A2
END:VEVENT
BEGIN:VEVENT
DTSTART;TZID=Europe/Berlin:20220608T110000
DTEND;TZID=Europe/Berlin:20220608T183000
DESCRIPTION:
SUMMARY:36. (öffentliche) Sitzung des Ausschusses für Landwirtschaft, Umwelt und Klimaschutz
CATEGORIES:Liveübertragung, Ausschüsse / Gremien, Anhörung / Fachgespräch
LOCATION:Landtag Brandenburg,Plenarsaal (Livestream)
UID:1A4F902C-3209-BDA2-44C0-E36DE47C9122
END:VEVENT
END:VCALENDAR
