BEGIN:VCALENDAR
PRODID:Landtag Brandenburg
VERSION:2.0
X-WR-CALNAME:Landtag Brandenburg Termine
BEGIN:VTIMEZONE
TZID:Europe/Berlin
X-LIC-LOCATION:Europe/Berlin
BEGIN:DAYLIGHT
TZOFFSETFROM:+0100
TZOFFSETTO:+0200
TZNAME:CEST
DTSTART:19700329T020000
RRULE:FREQ=YEARLY;INTERVAL=1;BYDAY=-1SU;BYMONTH=3
END:DAYLIGHT
BEGIN:STANDARD
TZOFFSETFROM:+0200
TZOFFSETTO:+0100
TZNAME:CET
DTSTART:19701025T030000
RRULE:FREQ=YEARLY;INTERVAL=1;BYDAY=-1SU;BYMONTH=10
END:STANDARD
END:VTIMEZONE
BEGIN:VEVENT
DTSTART;TZID=Europe/Berlin:20231009
DTEND;TZID=Europe/Berlin:20231010
DESCRIPTION:
SUMMARY:Informationsreise des Rechtsausschusses zum Thema „Digitalisierung der Justiz“ nach Madrid.
CATEGORIES:Ausschüsse / Gremien, Sonstige Veranstaltungen
LOCATION:Spanien, Madrid
UID:10085403-C189-80F1-1747-5F247A5410AB
END:VEVENT
END:VCALENDAR
