BEGIN:VCALENDAR
PRODID:Landtag Brandenburg
VERSION:2.0
X-WR-CALNAME:Landtag Brandenburg Termine
BEGIN:VTIMEZONE
TZID:Europe/Berlin
X-LIC-LOCATION:Europe/Berlin
BEGIN:DAYLIGHT
TZOFFSETFROM:+0100
TZOFFSETTO:+0200
TZNAME:CEST
DTSTART:19700329T020000
RRULE:FREQ=YEARLY;INTERVAL=1;BYDAY=-1SU;BYMONTH=3
END:DAYLIGHT
BEGIN:STANDARD
TZOFFSETFROM:+0200
TZOFFSETTO:+0100
TZNAME:CET
DTSTART:19701025T030000
RRULE:FREQ=YEARLY;INTERVAL=1;BYDAY=-1SU;BYMONTH=10
END:STANDARD
END:VTIMEZONE
BEGIN:VEVENT
DTSTART;TZID=Europe/Berlin:20220410T160000
DTEND;TZID=Europe/Berlin:20220410T235900
DESCRIPTION:
SUMMARY:Landtagspräsidentin Prof. Dr. Liedtke ist Schirmherrin des Spendenkonzerts zu Gunsten ukrainischer Geflüchteter „Musik für den Frieden“ und spricht ein Grußwort.
CATEGORIES:Termin der Präsidentin
LOCATION:Kirche Herzfelde, Busstr. 3, 17268 Templin
UID:31C23D67-814C-E93B-5AE1-975679C6216F
END:VEVENT
END:VCALENDAR
