BEGIN:VCALENDAR
PRODID:Landtag Brandenburg
VERSION:2.0
X-WR-CALNAME:Landtag Brandenburg Termine
BEGIN:VTIMEZONE
TZID:Europe/Berlin
X-LIC-LOCATION:Europe/Berlin
BEGIN:DAYLIGHT
TZOFFSETFROM:+0100
TZOFFSETTO:+0200
TZNAME:CEST
DTSTART:19700329T020000
RRULE:FREQ=YEARLY;INTERVAL=1;BYDAY=-1SU;BYMONTH=3
END:DAYLIGHT
BEGIN:STANDARD
TZOFFSETFROM:+0200
TZOFFSETTO:+0100
TZNAME:CET
DTSTART:19701025T030000
RRULE:FREQ=YEARLY;INTERVAL=1;BYDAY=-1SU;BYMONTH=10
END:STANDARD
END:VTIMEZONE
BEGIN:VEVENT
DTSTART;TZID=Europe/Berlin:20220610T090000
DTEND;TZID=Europe/Berlin:20220610T093000
DESCRIPTION:
SUMMARY:18. (nichtöffentliche) Sitzung des Untersuchungsausschusses 7/1
CATEGORIES:Ausschüsse / Gremien
LOCATION:Landtag Brandenburg,2.050
UID:456306D9-9E26-7702-2216-A87E6E67F588
END:VEVENT
BEGIN:VEVENT
DTSTART;TZID=Europe/Berlin:20220610T100000
DTEND;TZID=Europe/Berlin:20220610T235900
DESCRIPTION:
SUMMARY:18. (öffentliche) Sitzung des Sonderausschusses Strukturentwicklung in der Lausitz
CATEGORIES:Liveübertragung, Ausschüsse / Gremien, Anhörung / Fachgespräch
LOCATION:Dorfgemeinschaftshaus Haidemühl, Haidemühler Straße 35, 03130 Spremberg/OT Haidemühl
UID:228597C7-807A-8D82-8049-A2441B27DBD8
END:VEVENT
BEGIN:VEVENT
DTSTART;TZID=Europe/Berlin:20220610T100000
DTEND;TZID=Europe/Berlin:20220610T120000
DESCRIPTION:
SUMMARY:2. (nichtöffentliche) Sitzung des Untersuchungsausschusses 7/2
CATEGORIES:Ausschüsse / Gremien
LOCATION:Landtag Brandenburg,2.050 a/b
UID:F6DABC99-F22F-DD75-D30E-6A15B1FF8564
END:VEVENT
END:VCALENDAR
