BEGIN:VCALENDAR
PRODID:Landtag Brandenburg
VERSION:2.0
X-WR-CALNAME:Landtag Brandenburg Termine
BEGIN:VTIMEZONE
TZID:Europe/Berlin
X-LIC-LOCATION:Europe/Berlin
BEGIN:DAYLIGHT
TZOFFSETFROM:+0100
TZOFFSETTO:+0200
TZNAME:CEST
DTSTART:19700329T020000
RRULE:FREQ=YEARLY;INTERVAL=1;BYDAY=-1SU;BYMONTH=3
END:DAYLIGHT
BEGIN:STANDARD
TZOFFSETFROM:+0200
TZOFFSETTO:+0100
TZNAME:CET
DTSTART:19701025T030000
RRULE:FREQ=YEARLY;INTERVAL=1;BYDAY=-1SU;BYMONTH=10
END:STANDARD
END:VTIMEZONE
BEGIN:VEVENT
DTSTART;TZID=Europe/Berlin:20231010
DTEND;TZID=Europe/Berlin:20231011
DESCRIPTION:
SUMMARY:Informationsreise des Rechtsausschusses zum Thema „Digitalisierung der Justiz“ nach Madrid.
CATEGORIES:Ausschüsse / Gremien, Sonstige Veranstaltungen
LOCATION:Spanien, Madrid
UID:BBB247A4-5195-06D3-888A-8914A9924B22
END:VEVENT
BEGIN:VEVENT
DTSTART;TZID=Europe/Berlin:20231010T100000
DTEND;TZID=Europe/Berlin:20231010T235900
DESCRIPTION:
SUMMARY:Landtagspräsidentin Prof. Dr. Liedtke spricht ein Grußwort bei der Jugend- und Auszubildendenversammlung des Landesbetriebs Forst.
CATEGORIES:Termin der Präsidentin
LOCATION:Waldarbeitsschule Kunsterspring, Kunsterspring 3, 16818 Gühlen Glienicke
UID:52A25FA4-7108-0CF0-F3E2-2829675C4F75
END:VEVENT
BEGIN:VEVENT
DTSTART;TZID=Europe/Berlin:20231010T110000
DTEND;TZID=Europe/Berlin:20231010T132000
DESCRIPTION:
SUMMARY:Pressekonferenzen der Landtagsfraktionen
CATEGORIES:Pressekonferenz, Sonstige Veranstaltungen, Liveübertragung, Termin der Fraktionen
LOCATION:Landtag Brandenburg,E.060 (Pressekonferenzraum)
UID:6DF7A6DF-C9B3-E834-1CD4-0B23D7425007
END:VEVENT
BEGIN:VEVENT
DTSTART;TZID=Europe/Berlin:20231010T110000
DTEND;TZID=Europe/Berlin:20231010T112000
DESCRIPTION:
SUMMARY:Pressekonferenz der Fraktion DIE LINKE mit dem Fraktionsvorsitzenden Sebastian Walter und dem sozialpolitischen Sprecher Andreas Büttner
CATEGORIES:Termin der Fraktionen, Pressekonferenz
LOCATION:Landtag Brandenburg,E.060 (Pressekonferenzraum)
UID:86B58520-9155-F87B-6A9E-E580AD4CD476
END:VEVENT
BEGIN:VEVENT
DTSTART;TZID=Europe/Berlin:20231010T112000
DTEND;TZID=Europe/Berlin:20231010T114000
DESCRIPTION:
SUMMARY:Pressekonferenz der Fraktion BVB / FREIE WÄHLER
CATEGORIES:Termin der Fraktionen, Pressekonferenz
LOCATION:Landtag Brandenburg,E.060 (Pressekonferenzraum)
UID:E9AF3FA3-21EE-5A78-46A5-FFAF1F4391B1
END:VEVENT
BEGIN:VEVENT
DTSTART;TZID=Europe/Berlin:20231010T114000
DTEND;TZID=Europe/Berlin:20231010T120000
DESCRIPTION:
SUMMARY:Pressekonferenz der CDU-Fraktion
CATEGORIES:Termin der Fraktionen, Pressekonferenz
LOCATION:Landtag Brandenburg,E.060 (Pressekonferenzraum)
UID:15986B6F-7548-0B70-67B4-C4E8941EB61A
END:VEVENT
BEGIN:VEVENT
DTSTART;TZID=Europe/Berlin:20231010T122000
DTEND;TZID=Europe/Berlin:20231010T124000
DESCRIPTION:
SUMMARY:Pressekonferenz der SPD-Fraktion 
CATEGORIES:Termin der Fraktionen, Pressekonferenz
LOCATION:Landtag Brandenburg,E.060 (Pressekonferenzraum)
UID:BF7CE097-A94F-17A7-7EE1-9DC517E2BE3D
END:VEVENT
BEGIN:VEVENT
DTSTART;TZID=Europe/Berlin:20231010T124000
DTEND;TZID=Europe/Berlin:20231010T130000
DESCRIPTION:
SUMMARY:Pressekonferenz der Fraktion BÜNDNIS 90/DIE GRÜNEN mit den Fraktionsvorsitzenden Petra Budke und Benjamin Raschke
CATEGORIES:Termin der Fraktionen, Pressekonferenz
LOCATION:Landtag Brandenburg,E.060 a/b (Pressekonferenzraum)
UID:C99BE79C-B1ED-659D-5118-76E58350D2E0
END:VEVENT
BEGIN:VEVENT
DTSTART;TZID=Europe/Berlin:20231010T140000
DTEND;TZID=Europe/Berlin:20231010T170000
DESCRIPTION:
SUMMARY:20. (teilweise öffentliche) Sitzung des Ausschusses für Haushaltskontrolle
CATEGORIES:Ausschüsse / Gremien, Liveübertragung
LOCATION:Landtag Brandenburg,1.070 a/b
UID:FBDB867D-1BF8-AD7C-FE6F-905EC9890C72
END:VEVENT
BEGIN:VEVENT
DTSTART;TZID=Europe/Berlin:20231010T140000
DTEND;TZID=Europe/Berlin:20231010T235900
DESCRIPTION:
SUMMARY:58. (nicht öffentliche) Sitzung des Petitionsausschusses
CATEGORIES:Ausschüsse / Gremien
LOCATION:Landtag Brandenburg,E.050
UID:129ACD83-3A6B-332E-6520-01B16301F8D0
END:VEVENT
END:VCALENDAR
