BEGIN:VCALENDAR
PRODID:Landtag Brandenburg
VERSION:2.0
X-WR-CALNAME:Landtag Brandenburg Termine
BEGIN:VTIMEZONE
TZID:Europe/Berlin
X-LIC-LOCATION:Europe/Berlin
BEGIN:DAYLIGHT
TZOFFSETFROM:+0100
TZOFFSETTO:+0200
TZNAME:CEST
DTSTART:19700329T020000
RRULE:FREQ=YEARLY;INTERVAL=1;BYDAY=-1SU;BYMONTH=3
END:DAYLIGHT
BEGIN:STANDARD
TZOFFSETFROM:+0200
TZOFFSETTO:+0100
TZNAME:CET
DTSTART:19701025T030000
RRULE:FREQ=YEARLY;INTERVAL=1;BYDAY=-1SU;BYMONTH=10
END:STANDARD
END:VTIMEZONE
BEGIN:VEVENT
DTSTART;TZID=Europe/Berlin:20231011
DTEND;TZID=Europe/Berlin:20231012
DESCRIPTION:
SUMMARY:Informationsreise des Rechtsausschusses zum Thema „Digitalisierung der Justiz“ nach Madrid.
CATEGORIES:Ausschüsse / Gremien, Sonstige Veranstaltungen
LOCATION:Spanien, Madrid
UID:203D3F4A-8EAC-537A-EB04-D930C7EB3DDD
END:VEVENT
BEGIN:VEVENT
DTSTART;TZID=Europe/Berlin:20231011T093000
DTEND;TZID=Europe/Berlin:20231011T103000
DESCRIPTION:
SUMMARY:52. (nicht öffentliche) Sitzung des Präsidiums
CATEGORIES:Präsidiumssitzung, Termin der Präsidentin, Termin der Vizepräsidenten
LOCATION:Landtag Brandenburg,1.055
UID:D334DD19-ED88-B6CC-F180-496A69453DE8
END:VEVENT
BEGIN:VEVENT
DTSTART;TZID=Europe/Berlin:20231011T100000
DTEND;TZID=Europe/Berlin:20231011T160000
DESCRIPTION:
SUMMARY:40. (öffentliche) Sitzung des Ausschusses für Wirtschaft, Arbeit und Energie
CATEGORIES:Ausschüsse / Gremien, Liveübertragung
LOCATION:Landtag Brandenburg,1.050
UID:FA09E7CF-05C9-6D64-3C69-3AD9A99288F2
END:VEVENT
BEGIN:VEVENT
DTSTART;TZID=Europe/Berlin:20231011T110000
DTEND;TZID=Europe/Berlin:20231011T180000
DESCRIPTION:
SUMMARY:52. (teilweise öffentliche) Sitzung des Hauptausschusses
CATEGORIES:Liveübertragung, Ausschüsse / Gremien, Anhörung / Fachgespräch
LOCATION:Landtag Brandenburg,1.070
UID:B893ED1F-8238-6F10-9DAD-F3F3669C31C2
END:VEVENT
BEGIN:VEVENT
DTSTART;TZID=Europe/Berlin:20231011T130000
DTEND;TZID=Europe/Berlin:20231011T170000
DESCRIPTION:
SUMMARY:40. (öffentliche) Sitzung des Ausschusses für Wissenschaft, Forschung und Kultur
CATEGORIES:Liveübertragung, Ausschüsse / Gremien, Anhörung / Fachgespräch
LOCATION:Landtag Brandenburg,2.050
UID:FE0EFF5E-70EA-D1D3-C5B6-00B628B04E34
END:VEVENT
END:VCALENDAR
