BEGIN:VCALENDAR
PRODID:Landtag Brandenburg
VERSION:2.0
X-WR-CALNAME:Landtag Brandenburg Termine
BEGIN:VTIMEZONE
TZID:Europe/Berlin
X-LIC-LOCATION:Europe/Berlin
BEGIN:DAYLIGHT
TZOFFSETFROM:+0100
TZOFFSETTO:+0200
TZNAME:CEST
DTSTART:19700329T020000
RRULE:FREQ=YEARLY;INTERVAL=1;BYDAY=-1SU;BYMONTH=3
END:DAYLIGHT
BEGIN:STANDARD
TZOFFSETFROM:+0200
TZOFFSETTO:+0100
TZNAME:CET
DTSTART:19701025T030000
RRULE:FREQ=YEARLY;INTERVAL=1;BYDAY=-1SU;BYMONTH=10
END:STANDARD
END:VTIMEZONE
BEGIN:VEVENT
DTSTART;TZID=Europe/Berlin:20231012T100000
DTEND;TZID=Europe/Berlin:20231012T180000
DESCRIPTION:
SUMMARY:42. (öffentliche) Sitzung des Ausschusses für Infrastruktur und Landesplanung
CATEGORIES:Liveübertragung, Ausschüsse / Gremien, Anhörung / Fachgespräch
LOCATION:Landtag Brandenburg,1.050
UID:1B2BE2AD-8DB5-8792-B279-8B8E385CBA04
END:VEVENT
BEGIN:VEVENT
DTSTART;TZID=Europe/Berlin:20231012T100000
DTEND;TZID=Europe/Berlin:20231012T143000
DESCRIPTION:
SUMMARY:36. (öffentliche) Sitzung des Ausschusses für Europaangelegenheiten und Entwicklungspolitik
CATEGORIES:Liveübertragung, Ausschüsse / Gremien, Anhörung / Fachgespräch
LOCATION:Landtag Brandenburg,2.050
UID:CD28C271-4E11-A86B-D9EA-A31CCD16A196
END:VEVENT
BEGIN:VEVENT
DTSTART;TZID=Europe/Berlin:20231012T140000
DTEND;TZID=Europe/Berlin:20231012T170000
DESCRIPTION:
SUMMARY:Bürgersprechstunde des Petitionsausschuss
CATEGORIES:Ausschüsse / Gremien, Sonstige Veranstaltungen
LOCATION:Kreisverwaltung des Landkreises Oberspreewald-Lausitz, Kreishaus, Haus I, Dubinaweg 1, 01968 Senftenberg,101
UID:B15097FD-A9B9-60B9-844F-B414B55624C7
END:VEVENT
BEGIN:VEVENT
DTSTART;TZID=Europe/Berlin:20231012T140000
DTEND;TZID=Europe/Berlin:20231012T190000
DESCRIPTION:
SUMMARY:52. (öffentliche) Sitzung (Sondersitzung) des Ausschusses für Inneres und Kommunales
CATEGORIES:Liveübertragung, Anhörung / Fachgespräch, Ausschüsse / Gremien
LOCATION:Landtag Brandenburg,1.070 a/b
UID:98F53495-C839-D090-BE0F-37F3872A205D
END:VEVENT
END:VCALENDAR
