BEGIN:VCALENDAR
PRODID:Landtag Brandenburg
VERSION:2.0
X-WR-CALNAME:Landtag Brandenburg Termine
BEGIN:VTIMEZONE
TZID:Europe/Berlin
X-LIC-LOCATION:Europe/Berlin
BEGIN:DAYLIGHT
TZOFFSETFROM:+0100
TZOFFSETTO:+0200
TZNAME:CEST
DTSTART:19700329T020000
RRULE:FREQ=YEARLY;INTERVAL=1;BYDAY=-1SU;BYMONTH=3
END:DAYLIGHT
BEGIN:STANDARD
TZOFFSETFROM:+0200
TZOFFSETTO:+0100
TZNAME:CET
DTSTART:19701025T030000
RRULE:FREQ=YEARLY;INTERVAL=1;BYDAY=-1SU;BYMONTH=10
END:STANDARD
END:VTIMEZONE
BEGIN:VEVENT
DTSTART;TZID=Europe/Berlin:20220613T104500
DTEND;TZID=Europe/Berlin:20220613T235900
DESCRIPTION:
SUMMARY:Landtagspräsidentin Prof. Dr. Liedtke nimmt den Tätigkeitsbericht der Landesbeauftragten zur Aufarbeitung der Folgen der kommunistischen Diktatur, Dr. Nooke, entgegen. Anschließend wird der Bericht in einer Pressekonferenz im Raum E.060 vorgestellt.
CATEGORIES:Termin der Präsidentin
LOCATION:Landtag Brandenburg,Lobby
UID:CA627365-F55E-A5F2-8BD9-C56ABCBA7201
END:VEVENT
BEGIN:VEVENT
DTSTART;TZID=Europe/Berlin:20220613T110000
DTEND;TZID=Europe/Berlin:20220613T113500
DESCRIPTION:
SUMMARY:Pressekonferenz der Landesbeauftragten für Aufarbeitung der Folgen der kommunistischen Diktatur: Übergabe Tätigkeitsbericht an die Landtagspräsidentin
CATEGORIES:Pressekonferenz, Liveübertragung, Sonstige Veranstaltungen
LOCATION:Landtag Brandenburg,E.060 a/b (Pressekonferenzraum)
UID:9B8EFD55-8DC4-8F14-07A6-1A5EB52E1836
END:VEVENT
BEGIN:VEVENT
DTSTART;TZID=Europe/Berlin:20220613T170000
DTEND;TZID=Europe/Berlin:20220613T235900
DESCRIPTION:
SUMMARY:Online-Fachgespräch der Fraktion BÜNDNIS 90/DIEGRÜNEN: „Reform des Bundesbergrechts – Endlich einen fairen Interessenausgleich herstellen“ 
CATEGORIES:Termin der Fraktionen
LOCATION:Online mit Anmeldung
UID:5167F27A-7DD4-E772-7C2B-1F09A778402D
END:VEVENT
END:VCALENDAR
