BEGIN:VCALENDAR
PRODID:Landtag Brandenburg
VERSION:2.0
X-WR-CALNAME:Landtag Brandenburg Termine
BEGIN:VTIMEZONE
TZID:Europe/Berlin
X-LIC-LOCATION:Europe/Berlin
BEGIN:DAYLIGHT
TZOFFSETFROM:+0100
TZOFFSETTO:+0200
TZNAME:CEST
DTSTART:19700329T020000
RRULE:FREQ=YEARLY;INTERVAL=1;BYDAY=-1SU;BYMONTH=3
END:DAYLIGHT
BEGIN:STANDARD
TZOFFSETFROM:+0200
TZOFFSETTO:+0100
TZNAME:CET
DTSTART:19701025T030000
RRULE:FREQ=YEARLY;INTERVAL=1;BYDAY=-1SU;BYMONTH=10
END:STANDARD
END:VTIMEZONE
BEGIN:VEVENT
DTSTART;TZID=Europe/Berlin:20220615T093000
DTEND;TZID=Europe/Berlin:20220615T110000
DESCRIPTION:
SUMMARY:37. (nicht öffentliche) Sitzung des Präsidiums
CATEGORIES:Präsidiumssitzung, Termin der Präsidentin, Termin der Vizepräsidenten
LOCATION:Landtag Brandenburg,1.055
UID:9ACD54BD-C434-3F14-D498-1D62C867C216
END:VEVENT
BEGIN:VEVENT
DTSTART;TZID=Europe/Berlin:20220615T100000
DTEND;TZID=Europe/Berlin:20220615T235900
DESCRIPTION:
SUMMARY:27. (öffentliche) Sitzung des Ausschusses für Wirtschaft, Arbeit und Energie
CATEGORIES:Ausschüsse / Gremien, Anhörung / Fachgespräch
LOCATION:Medienstadt Potsdam-Babelsberg, August-Bebel-Straße 26-53, 14482 Potsdam,Studio 10
UID:80F66A99-4F0A-A002-6105-DEE219AB1826
END:VEVENT
BEGIN:VEVENT
DTSTART;TZID=Europe/Berlin:20220615T110000
DTEND;TZID=Europe/Berlin:20220615T235900
DESCRIPTION:
SUMMARY:36. (teilweise öffentliche) Sitzung des Hauptausschusses
CATEGORIES:Liveübertragung, Ausschüsse / Gremien
LOCATION:Landtag Brandenburg,1.070
UID:B5A35203-3C22-0BEE-1059-BF19B88816EC
END:VEVENT
BEGIN:VEVENT
DTSTART;TZID=Europe/Berlin:20220615T130000
DTEND;TZID=Europe/Berlin:20220615T170000
DESCRIPTION:
SUMMARY:28. (öffentliche) Sitzung des Ausschusses für Wissenschaft, Forschung und Kultur
CATEGORIES:Liveübertragung, Ausschüsse / Gremien, Anhörung / Fachgespräch
LOCATION:Landtag Brandenburg,2.050
UID:15E081F7-FDC8-8AE6-B563-152B84319488
END:VEVENT
END:VCALENDAR
