BEGIN:VCALENDAR
PRODID:Landtag Brandenburg
VERSION:2.0
X-WR-CALNAME:Landtag Brandenburg Termine
BEGIN:VTIMEZONE
TZID:Europe/Berlin
X-LIC-LOCATION:Europe/Berlin
BEGIN:DAYLIGHT
TZOFFSETFROM:+0100
TZOFFSETTO:+0200
TZNAME:CEST
DTSTART:19700329T020000
RRULE:FREQ=YEARLY;INTERVAL=1;BYDAY=-1SU;BYMONTH=3
END:DAYLIGHT
BEGIN:STANDARD
TZOFFSETFROM:+0200
TZOFFSETTO:+0100
TZNAME:CET
DTSTART:19701025T030000
RRULE:FREQ=YEARLY;INTERVAL=1;BYDAY=-1SU;BYMONTH=10
END:STANDARD
END:VTIMEZONE
BEGIN:VEVENT
DTSTART;TZID=Europe/Berlin:20220616T093000
DTEND;TZID=Europe/Berlin:20220616T100000
DESCRIPTION:
SUMMARY:Landtagspräsidentin Prof. Dr. Liedtke empfängt die französische Botschafterin, I. E. Anne-Marie Descôtes. Vor dem Gespräch im Büro der Präsidentin trägt sich die Botschafterin in das Gästebuch ein.
CATEGORIES:Termin der Präsidentin
LOCATION:Landtag Brandenburg,Lobby und Büro der Präsidentin
UID:F07772A4-24EE-0AF9-D2E9-120F2D502F96
END:VEVENT
BEGIN:VEVENT
DTSTART;TZID=Europe/Berlin:20220616T100000
DTEND;TZID=Europe/Berlin:20220616T150000
DESCRIPTION:
SUMMARY:25. (öffentliche) Sitzung des Ausschusses für Europaangelegenheiten und Entwicklungspolitik
CATEGORIES:Liveübertragung, Ausschüsse / Gremien, Anhörung / Fachgespräch
LOCATION:Landtag Brandenburg,2.050
UID:83D12840-8FE5-24F4-E32D-9486F3770C5E
END:VEVENT
BEGIN:VEVENT
DTSTART;TZID=Europe/Berlin:20220616T130000
DTEND;TZID=Europe/Berlin:20220616T235900
DESCRIPTION:
SUMMARY:Vizepräsidentin Richstein nimmt in Vertretung der Landtagspräsidentin an der Veranstaltung 30 Jahre pro agro e. V., Verband zur Föderung des ländlichen Raumes in der Region Brandenburg-Berlin e. V. teil.
CATEGORIES:Termin in Vertretung der Präsidentin, Termin der Vizepräsidenten
LOCATION:Heimvolkshochschule am Seddiner See, Seeweg 2, 14554 Seddiner See
UID:CC702EA4-A229-DDCE-07F8-1AEB86BA5553
END:VEVENT
BEGIN:VEVENT
DTSTART;TZID=Europe/Berlin:20220616T133000
DTEND;TZID=Europe/Berlin:20220616T193000
DESCRIPTION:
SUMMARY:28. (öffentliche) Sitzung des Ausschusses für Infrastruktur und Landesplanung
CATEGORIES:Liveübertragung, Ausschüsse / Gremien, Anhörung / Fachgespräch
LOCATION:Landtag Brandenburg,1.050
UID:A4A4D8C8-1D28-65D6-71A0-046FC54F6AD8
END:VEVENT
END:VCALENDAR
