BEGIN:VCALENDAR
PRODID:Landtag Brandenburg
VERSION:2.0
X-WR-CALNAME:Landtag Brandenburg Termine
BEGIN:VTIMEZONE
TZID:Europe/Berlin
X-LIC-LOCATION:Europe/Berlin
BEGIN:DAYLIGHT
TZOFFSETFROM:+0100
TZOFFSETTO:+0200
TZNAME:CEST
DTSTART:19700329T020000
RRULE:FREQ=YEARLY;INTERVAL=1;BYDAY=-1SU;BYMONTH=3
END:DAYLIGHT
BEGIN:STANDARD
TZOFFSETFROM:+0200
TZOFFSETTO:+0100
TZNAME:CET
DTSTART:19701025T030000
RRULE:FREQ=YEARLY;INTERVAL=1;BYDAY=-1SU;BYMONTH=10
END:STANDARD
END:VTIMEZONE
BEGIN:VEVENT
DTSTART;TZID=Europe/Berlin:20231017T110000
DTEND;TZID=Europe/Berlin:20231017T132000
DESCRIPTION:
SUMMARY:Pressekonferenzen der Landtagsfraktionen
CATEGORIES:Pressekonferenz, Sonstige Veranstaltungen, Liveübertragung, Termin der Fraktionen
LOCATION:Landtag Brandenburg,E.060 (Pressekonferenzraum)
UID:BA56F5DC-4AA0-CB67-0330-CEF8CFA18D15
END:VEVENT
BEGIN:VEVENT
DTSTART;TZID=Europe/Berlin:20231017T110000
DTEND;TZID=Europe/Berlin:20231017T112000
DESCRIPTION:
SUMMARY:Pressekonferenz der Fraktion DIE LINKE mit dem Fraktionsvorsitzenden Sebastian Walter und der bildungspolitischen Sprecherin Kathrin Dannenberg
CATEGORIES:Termin der Fraktionen, Pressekonferenz
LOCATION:Landtag Brandenburg,E.060 (Pressekonferenzraum)
UID:0F5268CB-AC18-E505-418D-477DFA4FAE29
END:VEVENT
BEGIN:VEVENT
DTSTART;TZID=Europe/Berlin:20231017T112000
DTEND;TZID=Europe/Berlin:20231017T114000
DESCRIPTION:
SUMMARY:Pressekonferenz der Fraktion BVB / FREIE WÄHLER
CATEGORIES:Termin der Fraktionen, Pressekonferenz
LOCATION:Landtag Brandenburg,E.060 (Pressekonferenzraum)
UID:9EC4A341-0BA7-D86D-492E-6B90349BC7FD
END:VEVENT
BEGIN:VEVENT
DTSTART;TZID=Europe/Berlin:20231017T114000
DTEND;TZID=Europe/Berlin:20231017T120000
DESCRIPTION:
SUMMARY:Pressekonferenz der CDU-Fraktion
CATEGORIES:Termin der Fraktionen, Pressekonferenz
LOCATION:Landtag Brandenburg,E.060 (Pressekonferenzraum)
UID:029FD407-8FE2-DB93-3A78-84ADD87406B4
END:VEVENT
BEGIN:VEVENT
DTSTART;TZID=Europe/Berlin:20231017T122000
DTEND;TZID=Europe/Berlin:20231017T124000
DESCRIPTION:
SUMMARY:Pressekonferenz der SPD-Fraktion 
CATEGORIES:Termin der Fraktionen, Pressekonferenz
LOCATION:Landtag Brandenburg,E.060 (Pressekonferenzraum)
UID:DFA8C977-C5FA-0620-641A-3F2A5A65013D
END:VEVENT
BEGIN:VEVENT
DTSTART;TZID=Europe/Berlin:20231017T124000
DTEND;TZID=Europe/Berlin:20231017T130000
DESCRIPTION:
SUMMARY:Pressekonferenz der Fraktion BÜNDNIS 90/DIE GRÜNEN mit den Fraktionsvorsitzenden Petra Budke und Benjamin Raschke
CATEGORIES:Termin der Fraktionen, Pressekonferenz
LOCATION:Landtag Brandenburg,E.060 a/b (Pressekonferenzraum)
UID:76E2D3FC-2B65-3696-265C-A2DEB5F4B8CD
END:VEVENT
BEGIN:VEVENT
DTSTART;TZID=Europe/Berlin:20231017T130000
DTEND;TZID=Europe/Berlin:20231017T132000
DESCRIPTION:
SUMMARY:Pressekonferenz der AfD-Fraktion
CATEGORIES:Termin der Fraktionen, Pressekonferenz
LOCATION:Landtag Brandenburg,E.060 (Pressekonferenzraum)
UID:1CD7F617-4967-1D0D-80DC-30172485DC6D
END:VEVENT
BEGIN:VEVENT
DTSTART;TZID=Europe/Berlin:20231017T170000
DTEND;TZID=Europe/Berlin:20231017T180000
DESCRIPTION:
SUMMARY:Vizepräsidentin Richstein spricht in Vertretung der Landtagspräsidentin ein Grußwort zur Freiluft-Ausstellung „Zwischen Erfolg und Verfolgung: Jüdische Stars im deutschen Sport bis 1933 und danach“. 
CATEGORIES:Termin in Vertretung der Präsidentin, Termin der Vizepräsidenten
LOCATION:Landtag Brandenburg,E.060 (Pressekonferenzraum)
UID:ED760D98-2127-EB97-E854-0F28EFA7D211
END:VEVENT
END:VCALENDAR
