BEGIN:VCALENDAR
PRODID:Landtag Brandenburg
VERSION:2.0
X-WR-CALNAME:Landtag Brandenburg Termine
BEGIN:VTIMEZONE
TZID:Europe/Berlin
X-LIC-LOCATION:Europe/Berlin
BEGIN:DAYLIGHT
TZOFFSETFROM:+0100
TZOFFSETTO:+0200
TZNAME:CEST
DTSTART:19700329T020000
RRULE:FREQ=YEARLY;INTERVAL=1;BYDAY=-1SU;BYMONTH=3
END:DAYLIGHT
BEGIN:STANDARD
TZOFFSETFROM:+0200
TZOFFSETTO:+0100
TZNAME:CET
DTSTART:19701025T030000
RRULE:FREQ=YEARLY;INTERVAL=1;BYDAY=-1SU;BYMONTH=10
END:STANDARD
END:VTIMEZONE
BEGIN:VEVENT
DTSTART;TZID=Europe/Berlin:20231018T090000
DTEND;TZID=Europe/Berlin:20231018T093000
DESCRIPTION:
SUMMARY:Ökumenische Andacht vor der Landtagssitzung
CATEGORIES:Sonstige Veranstaltungen, Termin der Fraktionen
LOCATION:Landtag Brandenburg,Raum der Besinnung
UID:23889F5C-D6A1-3127-AFFC-1B857C665463
END:VEVENT
BEGIN:VEVENT
DTSTART;TZID=Europe/Berlin:20231018T100000
DTEND;TZID=Europe/Berlin:20231018T180000
DESCRIPTION:
SUMMARY:92. Sitzung des Landtages Brandenburg
CATEGORIES:Liveübertragung, Termin der Präsidentin, Termin der Vizepräsidenten, Plenarsitzung
LOCATION:Landtag Brandenburg,Plenarsaal
UID:38E4A94A-E77A-6C62-2917-26A1BF563A26
END:VEVENT
BEGIN:VEVENT
DTSTART;TZID=Europe/Berlin:20231018T190000
DTEND;TZID=Europe/Berlin:20231018T235900
DESCRIPTION:
SUMMARY:Landtagspräsidentin Prof. Dr. Liedtke eröffnet den Parlamentarischen Abend des Landesfeuerwehrverbandes Brandenburg e.V.
CATEGORIES:Termin der Präsidentin
LOCATION:Landtag Brandenburg,Lobby
UID:03A26895-5905-DEE2-9F5D-8210F978CDC8
END:VEVENT
END:VCALENDAR
