BEGIN:VCALENDAR
PRODID:Landtag Brandenburg
VERSION:2.0
X-WR-CALNAME:Landtag Brandenburg Termine
BEGIN:VTIMEZONE
TZID:Europe/Berlin
X-LIC-LOCATION:Europe/Berlin
BEGIN:DAYLIGHT
TZOFFSETFROM:+0100
TZOFFSETTO:+0200
TZNAME:CEST
DTSTART:19700329T020000
RRULE:FREQ=YEARLY;INTERVAL=1;BYDAY=-1SU;BYMONTH=3
END:DAYLIGHT
BEGIN:STANDARD
TZOFFSETFROM:+0200
TZOFFSETTO:+0100
TZNAME:CET
DTSTART:19701025T030000
RRULE:FREQ=YEARLY;INTERVAL=1;BYDAY=-1SU;BYMONTH=10
END:STANDARD
END:VTIMEZONE
BEGIN:VEVENT
DTSTART;TZID=Europe/Berlin:20220619
DTEND;TZID=Europe/Berlin:20220621T235900
DESCRIPTION:
SUMMARY:Landtagspräsidentin Prof. Dr. Liedtke nimmt an der Konferenz der Präsidentinnen und Präsidenten der Deutschen Landesparlamente, des Deutschen Bundestages und des Bundesrates in Bremen teil.
CATEGORIES:Termin der Präsidentin
LOCATION:
UID:24BD981E-9354-DF30-9B5B-99CD8115D037
END:VEVENT
BEGIN:VEVENT
DTSTART;TZID=Europe/Berlin:20220619T100000
DTEND;TZID=Europe/Berlin:20220619T235900
DESCRIPTION:
SUMMARY:Vizepräsidentin Richstein spricht in Vertretung der Landtagspräsidentin ein Grußwort beim Festgottesdienst zum 117. Jahresfest der Hoffnungstaler Stiftung Lobetal.
CATEGORIES:Termin in Vertretung der Präsidentin, Termin der Vizepräsidenten
LOCATION:Waldkirche Lobetal, Bodelschwinghstraße 27, 16321 Bernau bei Berlin
UID:AEC045A7-2395-7E42-8BB6-95CA3AB9BC98
END:VEVENT
END:VCALENDAR
