BEGIN:VCALENDAR
PRODID:Landtag Brandenburg
VERSION:2.0
X-WR-CALNAME:Landtag Brandenburg Termine
BEGIN:VTIMEZONE
TZID:Europe/Berlin
X-LIC-LOCATION:Europe/Berlin
BEGIN:DAYLIGHT
TZOFFSETFROM:+0100
TZOFFSETTO:+0200
TZNAME:CEST
DTSTART:19700329T020000
RRULE:FREQ=YEARLY;INTERVAL=1;BYDAY=-1SU;BYMONTH=3
END:DAYLIGHT
BEGIN:STANDARD
TZOFFSETFROM:+0200
TZOFFSETTO:+0100
TZNAME:CET
DTSTART:19701025T030000
RRULE:FREQ=YEARLY;INTERVAL=1;BYDAY=-1SU;BYMONTH=10
END:STANDARD
END:VTIMEZONE
BEGIN:VEVENT
DTSTART;TZID=Europe/Berlin:20231019T080000
DTEND;TZID=Europe/Berlin:20231019T091500
DESCRIPTION:
SUMMARY:30. (nicht öffentliche) Sitzung des Rates für Angelegenheiten der Sorben/Wenden
CATEGORIES:Ausschüsse / Gremien
LOCATION:Landtag Brandenburg,2.050
UID:BA994D29-5596-5691-5D4C-BC88F4337F7F
END:VEVENT
BEGIN:VEVENT
DTSTART;TZID=Europe/Berlin:20231019T090000
DTEND;TZID=Europe/Berlin:20231019T200600
DESCRIPTION:
SUMMARY:93. Sitzung des Landtages Brandenburg
CATEGORIES:Liveübertragung, Termin der Präsidentin, Termin der Vizepräsidenten, Plenarsitzung
LOCATION:Landtag Brandenburg,Plenarsaal
UID:CA448760-D25D-9692-D646-5BEF9F4EE510
END:VEVENT
BEGIN:VEVENT
DTSTART;TZID=Europe/Berlin:20231019T121500
DTEND;TZID=Europe/Berlin:20231019T235900
DESCRIPTION:
SUMMARY:51. (öffentliche) Sitzung (Sondersitzung) des Ausschusses für Bildung, Jugend und Sport
CATEGORIES:Liveübertragung, Ausschüsse / Gremien
LOCATION:Landtag Brandenburg,2.050 a/b
UID:67A40D4E-EA7A-67A1-B02D-8A94475DB9F8
END:VEVENT
BEGIN:VEVENT
DTSTART;TZID=Europe/Berlin:20231019T123000
DTEND;TZID=Europe/Berlin:20231019T130000
DESCRIPTION:
SUMMARY:Landtagspräsidentin Prof. Dr. Liedtke enthüllt das Porträt von Dr. Herbert Knoblich in der Galerie ehemaliger Landtagspräsidentinnen und Landtagspräsidenten im Beisein seiner Tochter und des Künstlers Christian Heinze. 
CATEGORIES:Termin der Präsidentin
LOCATION:Landtag Brandenburg, Flur im Präsidialbereich
UID:CF878185-FFE4-B52E-247C-B18EE4CD40DD
END:VEVENT
BEGIN:VEVENT
DTSTART;TZID=Europe/Berlin:20231019T190000
DTEND;TZID=Europe/Berlin:20231019T235900
DESCRIPTION:
SUMMARY:Landtagspräsidentin Prof. Dr. Liedtke nimmt am Festkonzert 70 Jahre Deutscher Musikrat teil.
CATEGORIES:Termin der Präsidentin
LOCATION:Berliner Philharmonie, Herbert-von-Karajan-Straße 1, 10785 Berlin
UID:B6FB5DFC-4C8C-0CD4-3E22-F142467059D8
END:VEVENT
END:VCALENDAR
