BEGIN:VCALENDAR
PRODID:Landtag Brandenburg
VERSION:2.0
X-WR-CALNAME:Landtag Brandenburg Termine
BEGIN:VTIMEZONE
TZID:Europe/Berlin
X-LIC-LOCATION:Europe/Berlin
BEGIN:DAYLIGHT
TZOFFSETFROM:+0100
TZOFFSETTO:+0200
TZNAME:CEST
DTSTART:19700329T020000
RRULE:FREQ=YEARLY;INTERVAL=1;BYDAY=-1SU;BYMONTH=3
END:DAYLIGHT
BEGIN:STANDARD
TZOFFSETFROM:+0200
TZOFFSETTO:+0100
TZNAME:CET
DTSTART:19701025T030000
RRULE:FREQ=YEARLY;INTERVAL=1;BYDAY=-1SU;BYMONTH=10
END:STANDARD
END:VTIMEZONE
BEGIN:VEVENT
DTSTART;TZID=Europe/Berlin:20220420T180000
DTEND;TZID=Europe/Berlin:20220420T235900
DESCRIPTION:
SUMMARY:Landtagspräsidentin Prof. Dr. Liedtke ist zu Gast beim Benefizkonzert der Fachschaft Musik zur Unterstützung ukrainischer Kriegsflüchtlinge und spricht ein Grußwort.
CATEGORIES:Termin der Präsidentin
LOCATION:Universität Potsdam, Karl-Liebknecht-Str. 24/25, Haus 6, Raum 011, 14476 Potsdam
UID:91D2F106-B84F-88F3-A365-641688B46284
END:VEVENT
END:VCALENDAR
