BEGIN:VCALENDAR
PRODID:Landtag Brandenburg
VERSION:2.0
X-WR-CALNAME:Landtag Brandenburg Termine
BEGIN:VTIMEZONE
TZID:Europe/Berlin
X-LIC-LOCATION:Europe/Berlin
BEGIN:DAYLIGHT
TZOFFSETFROM:+0100
TZOFFSETTO:+0200
TZNAME:CEST
DTSTART:19700329T020000
RRULE:FREQ=YEARLY;INTERVAL=1;BYDAY=-1SU;BYMONTH=3
END:DAYLIGHT
BEGIN:STANDARD
TZOFFSETFROM:+0200
TZOFFSETTO:+0100
TZNAME:CET
DTSTART:19701025T030000
RRULE:FREQ=YEARLY;INTERVAL=1;BYDAY=-1SU;BYMONTH=10
END:STANDARD
END:VTIMEZONE
BEGIN:VEVENT
DTSTART;TZID=Europe/Berlin:20231020T120000
DTEND;TZID=Europe/Berlin:20231020T235900
DESCRIPTION:
SUMMARY:Landtagspräsidentin Prof. Dr. Liedtke besucht den „Wald der Erinnerungen“ in der Henning-von-Tresckow-Kaserne“ und legt ein Blumengesteck nieder.
CATEGORIES:Termin der Präsidentin
LOCATION:Henning-von-Tresckow-Kaserne, Werderscher Damm 21-29, 14548 Schwielowsee
UID:82470B4F-3E72-AE72-D1FC-D72A2D6359D9
END:VEVENT
END:VCALENDAR
