BEGIN:VCALENDAR
PRODID:Landtag Brandenburg
VERSION:2.0
X-WR-CALNAME:Landtag Brandenburg Termine
BEGIN:VTIMEZONE
TZID:Europe/Berlin
X-LIC-LOCATION:Europe/Berlin
BEGIN:DAYLIGHT
TZOFFSETFROM:+0100
TZOFFSETTO:+0200
TZNAME:CEST
DTSTART:19700329T020000
RRULE:FREQ=YEARLY;INTERVAL=1;BYDAY=-1SU;BYMONTH=3
END:DAYLIGHT
BEGIN:STANDARD
TZOFFSETFROM:+0200
TZOFFSETTO:+0100
TZNAME:CET
DTSTART:19701025T030000
RRULE:FREQ=YEARLY;INTERVAL=1;BYDAY=-1SU;BYMONTH=10
END:STANDARD
END:VTIMEZONE
BEGIN:VEVENT
DTSTART;TZID=Europe/Berlin:20260421T115000
DTEND;TZID=Europe/Berlin:20260421T131000
DESCRIPTION:
SUMMARY:Pressekonferenzen der Landtagsfraktionen
CATEGORIES:Pressekonferenz, Sonstige Veranstaltungen, Liveübertragung, Termin der Fraktionen
LOCATION:Landtag Brandenburg,E.060 (Pressekonferenzraum)
UID:A8D7C9F4-A0EC-26A4-3F10-075605C1ADE0
END:VEVENT
BEGIN:VEVENT
DTSTART;TZID=Europe/Berlin:20260421T115000
DTEND;TZID=Europe/Berlin:20260421T121000
DESCRIPTION:
SUMMARY:Pressekonferenz der AfD-Fraktion
CATEGORIES:Termin der Fraktionen, Pressekonferenz
LOCATION:Landtag Brandenburg,E.060 (Pressekonferenzraum)
UID:7547326D-2307-C360-68F7-3796C45916C0
END:VEVENT
BEGIN:VEVENT
DTSTART;TZID=Europe/Berlin:20260421T121000
DTEND;TZID=Europe/Berlin:20260421T123000
DESCRIPTION:
SUMMARY:Pressekonferenz der SPD-Fraktion
CATEGORIES:Termin der Fraktionen, Pressekonferenz
LOCATION:Landtag Brandenburg,E.060 (Pressekonferenzraum)
UID:D5E6D602-38D9-01C4-ACE2-6FDA46BCACEE
END:VEVENT
BEGIN:VEVENT
DTSTART;TZID=Europe/Berlin:20260421T123000
DTEND;TZID=Europe/Berlin:20260421T125000
DESCRIPTION:
SUMMARY:Pressekonferenz der CDU-Fraktion
CATEGORIES:Termin der Fraktionen, Pressekonferenz
LOCATION:Landtag Brandenburg,E.060 (Pressekonferenzraum)
UID:A2C51D47-0A01-107C-6A2E-3BCD3CB32446
END:VEVENT
END:VCALENDAR
