BEGIN:VCALENDAR
PRODID:Landtag Brandenburg
VERSION:2.0
X-WR-CALNAME:Landtag Brandenburg Termine
BEGIN:VTIMEZONE
TZID:Europe/Berlin
X-LIC-LOCATION:Europe/Berlin
BEGIN:DAYLIGHT
TZOFFSETFROM:+0100
TZOFFSETTO:+0200
TZNAME:CEST
DTSTART:19700329T020000
RRULE:FREQ=YEARLY;INTERVAL=1;BYDAY=-1SU;BYMONTH=3
END:DAYLIGHT
BEGIN:STANDARD
TZOFFSETFROM:+0200
TZOFFSETTO:+0100
TZNAME:CET
DTSTART:19701025T030000
RRULE:FREQ=YEARLY;INTERVAL=1;BYDAY=-1SU;BYMONTH=10
END:STANDARD
END:VTIMEZONE
BEGIN:VEVENT
DTSTART;TZID=Europe/Berlin:20220619
DTEND;TZID=Europe/Berlin:20220621T235900
DESCRIPTION:
SUMMARY:Landtagspräsidentin Prof. Dr. Liedtke nimmt an der Konferenz der Präsidentinnen und Präsidenten der Deutschen Landesparlamente, des Deutschen Bundestages und des Bundesrates in Bremen teil.
CATEGORIES:Termin der Präsidentin
LOCATION:
UID:24BD981E-9354-DF30-9B5B-99CD8115D037
END:VEVENT
BEGIN:VEVENT
DTSTART;TZID=Europe/Berlin:20220621T110000
DTEND;TZID=Europe/Berlin:20220621T132000
DESCRIPTION:
SUMMARY:Pressekonferenzen der Landtagsfraktionen
CATEGORIES:Pressekonferenz, Sonstige Veranstaltungen, Liveübertragung, Termin der Fraktionen
LOCATION:Landtag Brandenburg,E.060 (Pressekonferenzraum)
UID:05A880DD-7908-2C67-48D2-634631A407DF
END:VEVENT
BEGIN:VEVENT
DTSTART;TZID=Europe/Berlin:20220621T110000
DTEND;TZID=Europe/Berlin:20220621T112000
DESCRIPTION:
SUMMARY:Pressekonferenz der Fraktion DIE LINKE mit Fraktionsvorsitzenden Sebastian Walter und dem verkehrspolitischen Sprecher Andreas Büttner
CATEGORIES:Termin der Fraktionen, Pressekonferenz
LOCATION:Landtag Brandenburg,E.060 (Pressekonferenzraum)
UID:F550CB41-BD36-0CBE-C0A8-1128F84578DD
END:VEVENT
BEGIN:VEVENT
DTSTART;TZID=Europe/Berlin:20220621T112000
DTEND;TZID=Europe/Berlin:20220621T114000
DESCRIPTION:
SUMMARY:Pressekonferenz der Fraktion BVB / FREIE WÄHLER
CATEGORIES:Termin der Fraktionen, Pressekonferenz
LOCATION:Landtag Brandenburg,E.060 (Pressekonferenzraum)
UID:D9A07A49-1FC7-D175-80D3-6FF8F6AEDF49
END:VEVENT
BEGIN:VEVENT
DTSTART;TZID=Europe/Berlin:20220621T114000
DTEND;TZID=Europe/Berlin:20220621T120000
DESCRIPTION:
SUMMARY:Pressekonferenz der CDU-Fraktion
CATEGORIES:Pressekonferenz, Termin der Fraktionen
LOCATION:Landtag Brandenburg,E.060 (Pressekonferenzraum)
UID:CE651D06-FA80-99D5-887A-1BC9B9195B0A
END:VEVENT
BEGIN:VEVENT
DTSTART;TZID=Europe/Berlin:20220621T124000
DTEND;TZID=Europe/Berlin:20220621T130000
DESCRIPTION:
SUMMARY:Pressekonferenz der Fraktion BÜNDNIS 90/DIE GRÜNEN mit den Fraktionsvorsitzenden Petra Budke und Benjamin Raschke und der umweltpolitischen Sprecherin Isabell Hiekel
CATEGORIES:Termin der Fraktionen, Pressekonferenz
LOCATION:Landtag Brandenburg,E.060 a/b (Pressekonferenzraum)
UID:0FD1A0A5-4696-2129-7158-C9E984DDD48A
END:VEVENT
BEGIN:VEVENT
DTSTART;TZID=Europe/Berlin:20220621T130000
DTEND;TZID=Europe/Berlin:20220621T132000
DESCRIPTION:
SUMMARY:Pressekonferenz der AfD-Fraktion 
CATEGORIES:Termin der Fraktionen, Pressekonferenz
LOCATION:Landtag Brandenburg,E.060 (Pressekonferenzraum)
UID:59C5464B-24A1-E6EE-1B62-C281B58D2E3B
END:VEVENT
END:VCALENDAR
