BEGIN:VCALENDAR
PRODID:Landtag Brandenburg
VERSION:2.0
X-WR-CALNAME:Landtag Brandenburg Termine
BEGIN:VTIMEZONE
TZID:Europe/Berlin
X-LIC-LOCATION:Europe/Berlin
BEGIN:DAYLIGHT
TZOFFSETFROM:+0100
TZOFFSETTO:+0200
TZNAME:CEST
DTSTART:19700329T020000
RRULE:FREQ=YEARLY;INTERVAL=1;BYDAY=-1SU;BYMONTH=3
END:DAYLIGHT
BEGIN:STANDARD
TZOFFSETFROM:+0200
TZOFFSETTO:+0100
TZNAME:CET
DTSTART:19701025T030000
RRULE:FREQ=YEARLY;INTERVAL=1;BYDAY=-1SU;BYMONTH=10
END:STANDARD
END:VTIMEZONE
BEGIN:VEVENT
DTSTART;TZID=Europe/Berlin:20220623T093000
DTEND;TZID=Europe/Berlin:20220623T193000
DESCRIPTION:
SUMMARY:70. Sitzung des Landtages Brandenburg
CATEGORIES:Liveübertragung, Termin der Präsidentin, Termin der Vizepräsidenten, Plenarsitzung
LOCATION:Landtag Brandenburg,Plenarsaal
UID:CC6AB9B1-15DC-6E79-3AF8-27DBCEB98EAB
END:VEVENT
BEGIN:VEVENT
DTSTART;TZID=Europe/Berlin:20220623T122500
DTEND;TZID=Europe/Berlin:20220623T140000
DESCRIPTION:
SUMMARY:37. (öffentliche) Sitzung (Sondersitzung) des Ausschusses für Landwirtschaft, Umwelt und Klimaschutz
CATEGORIES:Liveübertragung, Ausschüsse / Gremien
LOCATION:Landtag Brandenburg,1.070
UID:463869AD-65AA-A2B3-2401-895FC97FCD86
END:VEVENT
BEGIN:VEVENT
DTSTART;TZID=Europe/Berlin:20220623T123000
DTEND;TZID=Europe/Berlin:20220623T235900
DESCRIPTION:
SUMMARY:38. (Sonder-)Sitzung des Präsidiums
CATEGORIES:Präsidiumssitzung, Termin der Präsidentin, Termin der Vizepräsidenten
LOCATION:Landtag Brandenburg,1.055
UID:58E3F928-351F-FD1B-48A3-C45FFDB22EE6
END:VEVENT
BEGIN:VEVENT
DTSTART;TZID=Europe/Berlin:20220623T180000
DTEND;TZID=Europe/Berlin:20220623T235900
DESCRIPTION:
SUMMARY:Landtagspräsidentin Prof. Dr. Liedtke folgt einer Einladung der Europa-Union Brandenburg zum Europa-Sommerfest.
CATEGORIES:Termin der Präsidentin
LOCATION:Bildungsforum, Dachterrasse, Am Kanal 47, 14467 Potsdam
UID:66CF473F-39EC-7F39-8C63-C6859628A02C
END:VEVENT
END:VCALENDAR
