BEGIN:VCALENDAR
PRODID:Landtag Brandenburg
VERSION:2.0
X-WR-CALNAME:Landtag Brandenburg Termine
BEGIN:VTIMEZONE
TZID:Europe/Berlin
X-LIC-LOCATION:Europe/Berlin
BEGIN:DAYLIGHT
TZOFFSETFROM:+0100
TZOFFSETTO:+0200
TZNAME:CEST
DTSTART:19700329T020000
RRULE:FREQ=YEARLY;INTERVAL=1;BYDAY=-1SU;BYMONTH=3
END:DAYLIGHT
BEGIN:STANDARD
TZOFFSETFROM:+0200
TZOFFSETTO:+0100
TZNAME:CET
DTSTART:19701025T030000
RRULE:FREQ=YEARLY;INTERVAL=1;BYDAY=-1SU;BYMONTH=10
END:STANDARD
END:VTIMEZONE
BEGIN:VEVENT
DTSTART;TZID=Europe/Berlin:20231024T083000
DTEND;TZID=Europe/Berlin:20231024T235900
DESCRIPTION:
SUMMARY:Landtagspräsidentin Prof. Dr. Liedtke begrüßt gemeinsam mit Ministerin Lange die Teilnehmenden der 165. Sitzung des Arbeitskreises Steuerschätzung im Landtag.
CATEGORIES:Termin der Präsidentin
LOCATION:Landtag Brandenburg,1.050
UID:87CC4914-E457-4933-9035-D658B9DA1427
END:VEVENT
BEGIN:VEVENT
DTSTART;TZID=Europe/Berlin:20231024T110000
DTEND;TZID=Europe/Berlin:20231024T132000
DESCRIPTION:
SUMMARY:Pressekonferenzen der Landtagsfraktionen
CATEGORIES:Pressekonferenz, Sonstige Veranstaltungen, Liveübertragung, Termin der Fraktionen
LOCATION:Landtag Brandenburg,E.060 (Pressekonferenzraum)
UID:C96E6264-0282-A36B-F660-FB3885EEDAD3
END:VEVENT
BEGIN:VEVENT
DTSTART;TZID=Europe/Berlin:20231024T160000
DTEND;TZID=Europe/Berlin:20231024T235900
DESCRIPTION:
SUMMARY:Die Vorsitzende des Ausschusses für Europaangelegenheiten und Entwicklungspolitik, Fortunato, nimmt an der Europass-Übergabe der Handwerkskammer Potsdam in Kooperation mit dem Landtag Brandenburg und dem Ministerium der Finanzen und für Europa teil.
CATEGORIES:Sonstige Veranstaltungen
LOCATION:Landtag Brandenburg,Plenarsaal und Lobby
UID:403DD6E5-B339-E5D1-13A1-C0AD7F3B5C09
END:VEVENT
END:VCALENDAR
