BEGIN:VCALENDAR
PRODID:Landtag Brandenburg
VERSION:2.0
X-WR-CALNAME:Landtag Brandenburg Termine
BEGIN:VTIMEZONE
TZID:Europe/Berlin
X-LIC-LOCATION:Europe/Berlin
BEGIN:DAYLIGHT
TZOFFSETFROM:+0100
TZOFFSETTO:+0200
TZNAME:CEST
DTSTART:19700329T020000
RRULE:FREQ=YEARLY;INTERVAL=1;BYDAY=-1SU;BYMONTH=3
END:DAYLIGHT
BEGIN:STANDARD
TZOFFSETFROM:+0200
TZOFFSETTO:+0100
TZNAME:CET
DTSTART:19701025T030000
RRULE:FREQ=YEARLY;INTERVAL=1;BYDAY=-1SU;BYMONTH=10
END:STANDARD
END:VTIMEZONE
BEGIN:VEVENT
DTSTART;TZID=Europe/Berlin:20220426T103000
DTEND;TZID=Europe/Berlin:20220426T112000
DESCRIPTION:
SUMMARY:Pressekonferenz der SPD-Landtagsfraktion zur Vorstellung der Halbzeitbilanz mit dem Fraktionsvorstand 
CATEGORIES:Pressekonferenz, Sonstige Veranstaltungen, Termin der Fraktionen, Liveübertragung
LOCATION:Landtag Brandenburg,E.060 (Pressekonferenzraum)
UID:5468C922-941F-5CA8-EA09-F03D08D4A62E
END:VEVENT
BEGIN:VEVENT
DTSTART;TZID=Europe/Berlin:20220426T112000
DTEND;TZID=Europe/Berlin:20220426T130000
DESCRIPTION:
SUMMARY:Pressekonferenzen der Landtagsfraktionen
CATEGORIES:Pressekonferenz, Sonstige Veranstaltungen, Liveübertragung, Termin der Fraktionen
LOCATION:Landtag Brandenburg,E.060 (Pressekonferenzraum)
UID:328C5094-A0ED-1668-5B6D-BBED5C5ACD90
END:VEVENT
BEGIN:VEVENT
DTSTART;TZID=Europe/Berlin:20220426T112000
DTEND;TZID=Europe/Berlin:20220426T120000
DESCRIPTION:
SUMMARY:Pressekonferenz der Fraktion BVB / FREIE WÄHLER
CATEGORIES:Pressekonferenz, Termin der Fraktionen
LOCATION:Landtag Brandenburg,E.060 (Pressekonferenzraum)
UID:C3EA3473-14AD-3A27-6FAF-80D59A446DBA
END:VEVENT
BEGIN:VEVENT
DTSTART;TZID=Europe/Berlin:20220426T122000
DTEND;TZID=Europe/Berlin:20220426T124000
DESCRIPTION:
SUMMARY:Pressekonferenz der Fraktion DIE LINKE
CATEGORIES:Termin der Fraktionen, Pressekonferenz
LOCATION:Landtag Brandenburg,E.060 (Pressekonferenzraum)
UID:D21D8E8D-73E3-31EF-FAB1-242EDA39794F
END:VEVENT
BEGIN:VEVENT
DTSTART;TZID=Europe/Berlin:20220426T124000
DTEND;TZID=Europe/Berlin:20220426T130000
DESCRIPTION:
SUMMARY:Pressekonferenz der Fraktion BÜNDNIS 90/DIE GRÜNEN mit der Fraktionsvorsitzenden Petra Budke und dem energie- und arbeitspolitischen Sprecher Clemens Rostock
CATEGORIES:Termin der Fraktionen, Pressekonferenz
LOCATION:Landtag Brandenburg,E.060 a/b (Pressekonferenzraum)
UID:EBA82845-70C4-1DBB-9E53-168CAD110A3C
END:VEVENT
BEGIN:VEVENT
DTSTART;TZID=Europe/Berlin:20220426T133000
DTEND;TZID=Europe/Berlin:20220426T154500
DESCRIPTION:
SUMMARY:18. (teilweise öffentliche) Sitzung des Rates für  Angelegenheiten der Sorben/Wenden
CATEGORIES:Liveübertragung, Ausschüsse / Gremien, Anhörung / Fachgespräch
LOCATION:Landtag Brandenburg,2.050 (per Videokonferenz)
UID:90C1F4EA-3923-654B-3A33-9D5C8918BB56
END:VEVENT
BEGIN:VEVENT
DTSTART;TZID=Europe/Berlin:20220426T140000
DTEND;TZID=Europe/Berlin:20220426T170000
DESCRIPTION:
SUMMARY:38. (nicht öffentliche) Sitzung des Petitionsausschusses
CATEGORIES:Ausschüsse / Gremien
LOCATION:Landtag Brandenburg,1.050
UID:85527E9F-D3C2-DDA0-5A8D-09BFD1E4522F
END:VEVENT
BEGIN:VEVENT
DTSTART;TZID=Europe/Berlin:20220426T193000
DTEND;TZID=Europe/Berlin:20220426T235900
DESCRIPTION:
SUMMARY:Landtagspräsidentin Prof. Dr. Liedtke folgt einer Einladung des Bundesmusikverbandes Chor & Orchester e.V. zum Parlamentarischen Abend der Amateurmusik unter dem Motto „Zukunft & Musik“.
CATEGORIES:Termin der Präsidentin
LOCATION:Akademie der Künste Berlin, Pariser Platz 4, 10117 Berlin
UID:57D5EA45-DC46-D9FC-DFCB-11732F5D2478
END:VEVENT
END:VCALENDAR
