BEGIN:VCALENDAR
PRODID:Landtag Brandenburg
VERSION:2.0
X-WR-CALNAME:Landtag Brandenburg Termine
BEGIN:VTIMEZONE
TZID:Europe/Berlin
X-LIC-LOCATION:Europe/Berlin
BEGIN:DAYLIGHT
TZOFFSETFROM:+0100
TZOFFSETTO:+0200
TZNAME:CEST
DTSTART:19700329T020000
RRULE:FREQ=YEARLY;INTERVAL=1;BYDAY=-1SU;BYMONTH=3
END:DAYLIGHT
BEGIN:STANDARD
TZOFFSETFROM:+0200
TZOFFSETTO:+0100
TZNAME:CET
DTSTART:19701025T030000
RRULE:FREQ=YEARLY;INTERVAL=1;BYDAY=-1SU;BYMONTH=10
END:STANDARD
END:VTIMEZONE
BEGIN:VEVENT
DTSTART;TZID=Europe/Berlin:20220627T110000
DTEND;TZID=Europe/Berlin:20220627T235900
DESCRIPTION:
SUMMARY:Landtagspräsidentin Prof. Dr. Liedtke empfängt die Präsidentin des Deutschen Bundestages, Bärbel Bas, zu einem Besuch im Landtag.
CATEGORIES:Termin der Präsidentin
LOCATION:Landtag Brandenburg,Lobby
UID:C64C0534-E989-D372-D906-ED5040E0B53F
END:VEVENT
BEGIN:VEVENT
DTSTART;TZID=Europe/Berlin:20220627T170000
DTEND;TZID=Europe/Berlin:20220627T235900
DESCRIPTION:
SUMMARY:Landtagspräsidentin Prof. Dr. Liedtke folgt einer Einladung vom Infrastrukturminister Beermann und spricht als Schirmfrau ein Grußwort auf dem 5. Kolloquium des Netzwerkes Baukultur.
CATEGORIES:Termin der Präsidentin
LOCATION:Investionsbank des Landes Brandenburg, Babelsberger Straße 21, 14473 Potsdam
UID:19634865-C582-9C73-56D5-3D89C0714A2A
END:VEVENT
END:VCALENDAR
