BEGIN:VCALENDAR
PRODID:Landtag Brandenburg
VERSION:2.0
X-WR-CALNAME:Landtag Brandenburg Termine
BEGIN:VTIMEZONE
TZID:Europe/Berlin
X-LIC-LOCATION:Europe/Berlin
BEGIN:DAYLIGHT
TZOFFSETFROM:+0100
TZOFFSETTO:+0200
TZNAME:CEST
DTSTART:19700329T020000
RRULE:FREQ=YEARLY;INTERVAL=1;BYDAY=-1SU;BYMONTH=3
END:DAYLIGHT
BEGIN:STANDARD
TZOFFSETFROM:+0200
TZOFFSETTO:+0100
TZNAME:CET
DTSTART:19701025T030000
RRULE:FREQ=YEARLY;INTERVAL=1;BYDAY=-1SU;BYMONTH=10
END:STANDARD
END:VTIMEZONE
BEGIN:VEVENT
DTSTART;TZID=Europe/Berlin:20220428T100000
DTEND;TZID=Europe/Berlin:20220428T200000
DESCRIPTION:
SUMMARY:14. (öffentliche) Sitzung des Ausschusses für Haushaltskontrolle
CATEGORIES:Liveübertragung, Ausschüsse / Gremien
LOCATION:Landtag Brandenburg,Plenarsaal (Livestream)
UID:77B46739-BF8E-E07F-EBA7-82185592C80A
END:VEVENT
BEGIN:VEVENT
DTSTART;TZID=Europe/Berlin:20220428T103000
DTEND;TZID=Europe/Berlin:20220428T113000
DESCRIPTION:
SUMMARY:Landtagspräsidentin Prof. Dr. Liedtke begrüßt anlässlich des Zukunftstages Schülerinnen und Schüler im Landtag.
CATEGORIES:Termin der Präsidentin, Sonstige Veranstaltungen
LOCATION:Landtag Brandenburg,1.050
UID:DFBD6188-87B3-72D2-1E47-137367F5CBA3
END:VEVENT
END:VCALENDAR
