BEGIN:VCALENDAR
PRODID:Landtag Brandenburg
VERSION:2.0
X-WR-CALNAME:Landtag Brandenburg Termine
BEGIN:VTIMEZONE
TZID:Europe/Berlin
X-LIC-LOCATION:Europe/Berlin
BEGIN:DAYLIGHT
TZOFFSETFROM:+0100
TZOFFSETTO:+0200
TZNAME:CEST
DTSTART:19700329T020000
RRULE:FREQ=YEARLY;INTERVAL=1;BYDAY=-1SU;BYMONTH=3
END:DAYLIGHT
BEGIN:STANDARD
TZOFFSETFROM:+0200
TZOFFSETTO:+0100
TZNAME:CET
DTSTART:19701025T030000
RRULE:FREQ=YEARLY;INTERVAL=1;BYDAY=-1SU;BYMONTH=10
END:STANDARD
END:VTIMEZONE
BEGIN:VEVENT
DTSTART;TZID=Europe/Berlin:20231028T090000
DTEND;TZID=Europe/Berlin:20231028T235900
DESCRIPTION:
SUMMARY:Landtagspräsidentin Prof. Dr. Liedtke nimmt als Vorsitzende des Landesverbandes Brandenburg Deutschen Kriegsgräberfürsorge e.V. an der Sitzung des Bundesvertretertages des VDK e.V. 
CATEGORIES:Termin der Präsidentin
LOCATION:Hotel La Strada, 34121 Kassel
UID:241DECDA-2AC3-1B7D-EDA6-AD3EC842680F
END:VEVENT
END:VCALENDAR
