BEGIN:VCALENDAR
PRODID:Landtag Brandenburg
VERSION:2.0
X-WR-CALNAME:Landtag Brandenburg Termine
BEGIN:VTIMEZONE
TZID:Europe/Berlin
X-LIC-LOCATION:Europe/Berlin
BEGIN:DAYLIGHT
TZOFFSETFROM:+0100
TZOFFSETTO:+0200
TZNAME:CEST
DTSTART:19700329T020000
RRULE:FREQ=YEARLY;INTERVAL=1;BYDAY=-1SU;BYMONTH=3
END:DAYLIGHT
BEGIN:STANDARD
TZOFFSETFROM:+0200
TZOFFSETTO:+0100
TZNAME:CET
DTSTART:19701025T030000
RRULE:FREQ=YEARLY;INTERVAL=1;BYDAY=-1SU;BYMONTH=10
END:STANDARD
END:VTIMEZONE
BEGIN:VEVENT
DTSTART;TZID=Europe/Berlin:20231029T150000
DTEND;TZID=Europe/Berlin:20231029T235900
DESCRIPTION:
SUMMARY:Landtagspräsidentin Prof. Dr. Liedtke folgt einer Einladung zum Landesimkertag und hält ein Grußwort.
CATEGORIES:Termin der Präsidentin
LOCATION:MAFZ Erlebnispark Paaren, Gartenstr. 1-3, 14621 Schönwalde-Glien
UID:A417947F-E2F9-A31C-F52D-58B469753463
END:VEVENT
BEGIN:VEVENT
DTSTART;TZID=Europe/Berlin:20231029T180000
DTEND;TZID=Europe/Berlin:20231029T235900
DESCRIPTION:
SUMMARY:Landtagspräsidentin Prof. Dr. Liedtke folgt einer Einladung des Rundfunk-Sinfonieorchesters Berlin zum Jubiläumskonzert anlässlich seines einhundertsten Geburtstages.
CATEGORIES:Termin der Präsidentin
LOCATION:Philharmonie Berlin, Herbert-von-Karajan-Str. 1, 10785 Berlin
UID:B8515315-FD96-6E42-9C74-09FD71B7DBFE
END:VEVENT
END:VCALENDAR
