BEGIN:VCALENDAR
PRODID:Landtag Brandenburg
VERSION:2.0
X-WR-CALNAME:Landtag Brandenburg Termine
BEGIN:VTIMEZONE
TZID:Europe/Berlin
X-LIC-LOCATION:Europe/Berlin
BEGIN:DAYLIGHT
TZOFFSETFROM:+0100
TZOFFSETTO:+0200
TZNAME:CEST
DTSTART:19700329T020000
RRULE:FREQ=YEARLY;INTERVAL=1;BYDAY=-1SU;BYMONTH=3
END:DAYLIGHT
BEGIN:STANDARD
TZOFFSETFROM:+0200
TZOFFSETTO:+0100
TZNAME:CET
DTSTART:19701025T030000
RRULE:FREQ=YEARLY;INTERVAL=1;BYDAY=-1SU;BYMONTH=10
END:STANDARD
END:VTIMEZONE
BEGIN:VEVENT
DTSTART;TZID=Europe/Berlin:20220630T160000
DTEND;TZID=Europe/Berlin:20220630T170000
DESCRIPTION:
SUMMARY:32. (öffentliche) Sitzung des Ausschusses für Bildung, Jugend und Sport
CATEGORIES:Liveübertragung, Ausschüsse / Gremien
LOCATION:Landtag Brandenburg,Videokonferenz (2.050)
UID:CD63019E-3DED-9566-5E53-EAC60EED3E67
END:VEVENT
END:VCALENDAR
